BEGIN:VCALENDAR
VERSION:2.0
PRODID:-//jEvents 2.0 for Joomla//EN
CALSCALE:GREGORIAN
METHOD:PUBLISH
BEGIN:VTIMEZONE
TZID:America/Kentucky/Louisville
BEGIN:STANDARD
DTSTART:20131115T160000
RDATE:20140309T030000
TZOFFSETFROM:-0400
TZOFFSETTO:-0500
TZNAME:America/Kentucky/Louisville EST
END:STANDARD
BEGIN:STANDARD
DTSTART:20141102T010000
RDATE:20150308T030000
TZOFFSETFROM:-0400
TZOFFSETTO:-0500
TZNAME:America/Kentucky/Louisville EST
END:STANDARD
BEGIN:STANDARD
DTSTART:20151101T010000
RDATE:20160313T030000
TZOFFSETFROM:-0400
TZOFFSETTO:-0500
TZNAME:America/Kentucky/Louisville EST
END:STANDARD
BEGIN:STANDARD
DTSTART:20161106T010000
RDATE:20170312T030000
TZOFFSETFROM:-0400
TZOFFSETTO:-0500
TZNAME:America/Kentucky/Louisville EST
END:STANDARD
BEGIN:STANDARD
DTSTART:20171105T010000
RDATE:20180311T030000
TZOFFSETFROM:-0400
TZOFFSETTO:-0500
TZNAME:America/Kentucky/Louisville EST
END:STANDARD
BEGIN:STANDARD
DTSTART:20181104T010000
RDATE:20190310T030000
TZOFFSETFROM:-0400
TZOFFSETTO:-0500
TZNAME:America/Kentucky/Louisville EST
END:STANDARD
BEGIN:STANDARD
DTSTART:20191103T010000
RDATE:20200308T030000
TZOFFSETFROM:-0400
TZOFFSETTO:-0500
TZNAME:America/Kentucky/Louisville EST
END:STANDARD
BEGIN:STANDARD
DTSTART:20201101T010000
RDATE:20210314T030000
TZOFFSETFROM:-0400
TZOFFSETTO:-0500
TZNAME:America/Kentucky/Louisville EST
END:STANDARD
BEGIN:DAYLIGHT
DTSTART:20140309T030000
RDATE:20141102T010000
TZOFFSETFROM:-0500
TZOFFSETTO:-0400
TZNAME:America/Kentucky/Louisville EDT
END:DAYLIGHT
BEGIN:DAYLIGHT
DTSTART:20150308T030000
RDATE:20151101T010000
TZOFFSETFROM:-0500
TZOFFSETTO:-0400
TZNAME:America/Kentucky/Louisville EDT
END:DAYLIGHT
BEGIN:DAYLIGHT
DTSTART:20160313T030000
RDATE:20161106T010000
TZOFFSETFROM:-0500
TZOFFSETTO:-0400
TZNAME:America/Kentucky/Louisville EDT
END:DAYLIGHT
BEGIN:DAYLIGHT
DTSTART:20170312T030000
RDATE:20171105T010000
TZOFFSETFROM:-0500
TZOFFSETTO:-0400
TZNAME:America/Kentucky/Louisville EDT
END:DAYLIGHT
BEGIN:DAYLIGHT
DTSTART:20180311T030000
RDATE:20181104T010000
TZOFFSETFROM:-0500
TZOFFSETTO:-0400
TZNAME:America/Kentucky/Louisville EDT
END:DAYLIGHT
BEGIN:DAYLIGHT
DTSTART:20190310T030000
RDATE:20191103T010000
TZOFFSETFROM:-0500
TZOFFSETTO:-0400
TZNAME:America/Kentucky/Louisville EDT
END:DAYLIGHT
BEGIN:DAYLIGHT
DTSTART:20200308T030000
RDATE:20201101T010000
TZOFFSETFROM:-0500
TZOFFSETTO:-0400
TZNAME:America/Kentucky/Louisville EDT
END:DAYLIGHT
END:VTIMEZONE
BEGIN:VEVENT
UID:d65f6b4246b42dbb0d6f516aaf31b4be
CATEGORIES:Community Event
CREATED:20141107T210246
SUMMARY:Saving our Youth Part II: "The Last of a Dying Breed
LOCATION:The Yearlings Club, 4309 W. Broadway
DESCRIPTION;ENCODING=QUOTED-PRINTABLE:Sunday, November 16, 2014\n4:00-6:00 p.m.\nThe Yearlings Club, 4309 W. Broa
 dway\nTOPIC: "Saving our Youth Part II: "The Last of a Dying Breed": The co
 nsequences of urban youth psyche, behavior, and violence. This forum will a
 ddresses the social, economic, and psychological costs urban youth behavior
  have on their communities, families, and themselves.PANELISTS:\nDr. Armon 
 R. Perry, Associate Professor, Kent School of Social Work\nYvette Gentry, D
 eputy Chief of Police/Patrol Services – Louisville Metro Police Department\
 nMODERATOR:\nReverend Derrick Terry, The Community Empowerment Center.\nThe
  University of Louisville/Yearlings Club Community Forum Series brings univ
 ersity faculty, community leaders and the African American community togeth
 er to discuss important issues. Currently in its twelfth year, this excitin
 g partnership provides a forum to discuss important community issues.\nThe 
 Forum Series is free and open to the public. Light refreshments served.\nFo
 r additional information, please contact: Clest Lanier (502) 852-3042 or Th
 is email address is being protected from spambots. You need JavaScript enab
 led to view it.
				document.getElementById('cloak2e41be2ed468ae53c600f2bb7
 60e21da').innerHTML = '';
				var prefix = '&#109;a' + 'i&#108;' + '&#116;o
 ';
				var path = 'hr' + 'ef' + '=';
				var addy2e41be2ed468ae53c600f2bb76
 0e21da = 'cvl&#97;n&#105;01' + '&#64;';
				addy2e41be2ed468ae53c600f2bb760
 e21da = addy2e41be2ed468ae53c600f2bb760e21da + 'l&#111;&#117;&#105;sv&#105;
 ll&#101;' + '&#46;' + '&#101;d&#117;';
				var addy_text2e41be2ed468ae53c60
 0f2bb760e21da = 'cvl&#97;n&#105;01' + '&#64;' + 'l&#111;&#117;&#105;sv&#105
 ;ll&#101;' + '&#46;' + '&#101;d&#117;';document.getElementById('cloak2e41be
 2ed468ae53c600f2bb760e21da').innerHTML += ''+addy_text2e41be2ed468ae53c600f
 2bb760e21da+'';
		, or, Marian Vasser, This email address is being protecte
 d from spambots. You need JavaScript enabled to view it.
				document.getEl
 ementById('cloakfb7ecccf7a42c9f2c8f3418a2ec8cd99').innerHTML = '';
				var 
 prefix = '&#109;a' + 'i&#108;' + '&#116;o';
				var path = 'hr' + 'ef' + '=
 ';
				var addyfb7ecccf7a42c9f2c8f3418a2ec8cd99 = 'mrv&#97;ss01' + '&#64;';
 
				addyfb7ecccf7a42c9f2c8f3418a2ec8cd99 = addyfb7ecccf7a42c9f2c8f3418a2ec
 8cd99 + 'l&#111;&#117;&#105;sv&#105;ll&#101;' + '&#46;' + '&#101;d&#117;';

 				var addy_textfb7ecccf7a42c9f2c8f3418a2ec8cd99 = 'mrv&#97;ss01' + '&#64;
 ' + 'l&#111;&#117;&#105;sv&#105;ll&#101;' + '&#46;' + '&#101;d&#117;';docum
 ent.getElementById('cloakfb7ecccf7a42c9f2c8f3418a2ec8cd99').innerHTML += ''
 +addy_textfb7ecccf7a42c9f2c8f3418a2ec8cd99+'';
		\n
CONTACT:Clest Lanier (502) 852-3042 or This email address is being protected from spambots. You need JavaScript enabled to view it.
				document.getElementById('cloak809ed0c796a24b2ce7321d7fc4cfc5c0').innerHTML = '';
				var prefix = '&#109;a' + 'i&#108;' + '&#116;o';
				var path = 'hr' + 'ef' + '=';
				var addy809ed0c796a24b2ce7321d7fc4cfc5c0 = 'cvl&#97;n&#105;01' + '&#64;';
				addy809ed0c796a24b2ce7321d7fc4cfc5c0 = addy809ed0c796a24b2ce7321d7fc4cfc5c0 + 'l&#111;&#117;&#105;sv&#105;ll&#101;' + '&#46;' + '&#101;d&#117;';
				var addy_text809ed0c796a24b2ce7321d7fc4cfc5c0 = 'cvl&#97;n&#105;01' + '&#64;' + 'l&#111;&#117;&#105;sv&#105;ll&#101;' + '&#46;' + '&#101;d&#117;';document.getElementById('cloak809ed0c796a24b2ce7321d7fc4cfc5c0').innerHTML += ''+addy_text809ed0c796a24b2ce7321d7fc4cfc5c0+'';
		, or, Marian Vasser, This email address is being protected from spambots. You need JavaScript enabled to view it.
				document.getElementById('cloak37cdb11f972d2aff22fd58390ba49ffa').innerHTML = '';
				var prefix = '&#109;a' + 'i&#108;' + '&#116;o';
				var path = 'hr' + 'ef' + '=';
				var addy37cdb11f972d2aff22fd58390ba49ffa = 'mrv&#97;ss01' + '&#64;';
				addy37cdb11f972d2aff22fd58390ba49ffa = addy37cdb11f972d2aff22fd58390ba49ffa + 'l&#111;&#117;&#105;sv&#105;ll&#101;' + '&#46;' + '&#101;d&#117;';
				var addy_text37cdb11f972d2aff22fd58390ba49ffa = 'mrv&#97;ss01' + '&#64;' + 'l&#111;&#117;&#105;sv&#105;ll&#101;' + '&#46;' + '&#101;d&#117;';document.getElementById('cloak37cdb11f972d2aff22fd58390ba49ffa').innerHTML += ''+addy_text37cdb11f972d2aff22fd58390ba49ffa+'';
		
DTSTAMP:20260419T090613Z
DTSTART;TZID=America/Kentucky/Louisville:20141116T160000
DTEND;TZID=America/Kentucky/Louisville:20141116T180000
SEQUENCE:0
TRANSP:OPAQUE
END:VEVENT
END:VCALENDAR