BEGIN:VCALENDAR
VERSION:2.0
PRODID:-//jEvents 2.0 for Joomla//EN
CALSCALE:GREGORIAN
METHOD:PUBLISH
BEGIN:VTIMEZONE
TZID:America/Kentucky/Louisville
BEGIN:STANDARD
DTSTART:20131213T160000
RDATE:20140309T030000
TZOFFSETFROM:-0400
TZOFFSETTO:-0500
TZNAME:America/Kentucky/Louisville EST
END:STANDARD
BEGIN:STANDARD
DTSTART:20141102T010000
RDATE:20150308T030000
TZOFFSETFROM:-0400
TZOFFSETTO:-0500
TZNAME:America/Kentucky/Louisville EST
END:STANDARD
BEGIN:STANDARD
DTSTART:20151101T010000
RDATE:20160313T030000
TZOFFSETFROM:-0400
TZOFFSETTO:-0500
TZNAME:America/Kentucky/Louisville EST
END:STANDARD
BEGIN:STANDARD
DTSTART:20161106T010000
RDATE:20170312T030000
TZOFFSETFROM:-0400
TZOFFSETTO:-0500
TZNAME:America/Kentucky/Louisville EST
END:STANDARD
BEGIN:STANDARD
DTSTART:20171105T010000
RDATE:20180311T030000
TZOFFSETFROM:-0400
TZOFFSETTO:-0500
TZNAME:America/Kentucky/Louisville EST
END:STANDARD
BEGIN:STANDARD
DTSTART:20181104T010000
RDATE:20190310T030000
TZOFFSETFROM:-0400
TZOFFSETTO:-0500
TZNAME:America/Kentucky/Louisville EST
END:STANDARD
BEGIN:STANDARD
DTSTART:20191103T010000
RDATE:20200308T030000
TZOFFSETFROM:-0400
TZOFFSETTO:-0500
TZNAME:America/Kentucky/Louisville EST
END:STANDARD
BEGIN:STANDARD
DTSTART:20201101T010000
RDATE:20210314T030000
TZOFFSETFROM:-0400
TZOFFSETTO:-0500
TZNAME:America/Kentucky/Louisville EST
END:STANDARD
BEGIN:DAYLIGHT
DTSTART:20140309T030000
RDATE:20141102T010000
TZOFFSETFROM:-0500
TZOFFSETTO:-0400
TZNAME:America/Kentucky/Louisville EDT
END:DAYLIGHT
BEGIN:DAYLIGHT
DTSTART:20150308T030000
RDATE:20151101T010000
TZOFFSETFROM:-0500
TZOFFSETTO:-0400
TZNAME:America/Kentucky/Louisville EDT
END:DAYLIGHT
BEGIN:DAYLIGHT
DTSTART:20160313T030000
RDATE:20161106T010000
TZOFFSETFROM:-0500
TZOFFSETTO:-0400
TZNAME:America/Kentucky/Louisville EDT
END:DAYLIGHT
BEGIN:DAYLIGHT
DTSTART:20170312T030000
RDATE:20171105T010000
TZOFFSETFROM:-0500
TZOFFSETTO:-0400
TZNAME:America/Kentucky/Louisville EDT
END:DAYLIGHT
BEGIN:DAYLIGHT
DTSTART:20180311T030000
RDATE:20181104T010000
TZOFFSETFROM:-0500
TZOFFSETTO:-0400
TZNAME:America/Kentucky/Louisville EDT
END:DAYLIGHT
BEGIN:DAYLIGHT
DTSTART:20190310T030000
RDATE:20191103T010000
TZOFFSETFROM:-0500
TZOFFSETTO:-0400
TZNAME:America/Kentucky/Louisville EDT
END:DAYLIGHT
BEGIN:DAYLIGHT
DTSTART:20200308T030000
RDATE:20201101T010000
TZOFFSETFROM:-0500
TZOFFSETTO:-0400
TZNAME:America/Kentucky/Louisville EDT
END:DAYLIGHT
END:VTIMEZONE
BEGIN:VEVENT
UID:fb3fc173ec5c067ec83caadd2a01fc41
CATEGORIES:Community Event
CREATED:20141202T120824
SUMMARY:University of Louisville/Yearlings Club - Annual Holiday Reception
DESCRIPTION;ENCODING=QUOTED-PRINTABLE:UNIVERSITY OF LOUISVILLE\nYEARLINGS CLUB FORUM SERIESCordially Invites You\
 nTo the\nANNUAL HOLIDAY RECEPTION\nSunday, December 14, 2014\n4:00 p.m. to 
 7:00 p.m.\n4309 W. Broadway, Louisville, Kentucky 40211\nRefreshments serve
 d, entertainment by the Jerry Tolson Quartet\n
CONTACT:R.S.V.P. Clest Lanier, (502)852-3042 or Marian Vasser, (502)852-2252 This email address is being protected from spambots. You need JavaScript enabled to view it.
				document.getElementById('cloak63e58c7a46c9de705697dc33d7f23ae6').innerHTML = '';
				var prefix = '&#109;a' + 'i&#108;' + '&#116;o';
				var path = 'hr' + 'ef' + '=';
				var addy63e58c7a46c9de705697dc33d7f23ae6 = 'cvl&#97;n&#105;01' + '&#64;';
				addy63e58c7a46c9de705697dc33d7f23ae6 = addy63e58c7a46c9de705697dc33d7f23ae6 + 'l&#111;&#117;&#105;sv&#105;ll&#101;' + '&#46;' + '&#101;d&#117;';
				var addy_text63e58c7a46c9de705697dc33d7f23ae6 = 'cvl&#97;n&#105;01' + '&#64;' + 'l&#111;&#117;&#105;sv&#105;ll&#101;' + '&#46;' + '&#101;d&#117;';document.getElementById('cloak63e58c7a46c9de705697dc33d7f23ae6').innerHTML += ''+addy_text63e58c7a46c9de705697dc33d7f23ae6+'';
		, This email address is being protected from spambots. You need JavaScript enabled to view it.
				document.getElementById('cloak5f5c05eaec8acce0891b911ab5f4cda7').innerHTML = '';
				var prefix = '&#109;a' + 'i&#108;' + '&#116;o';
				var path = 'hr' + 'ef' + '=';
				var addy5f5c05eaec8acce0891b911ab5f4cda7 = 'mrv&#97;ss01' + '&#64;';
				addy5f5c05eaec8acce0891b911ab5f4cda7 = addy5f5c05eaec8acce0891b911ab5f4cda7 + 'l&#111;&#117;&#105;sv&#105;ll' + '&#46;' + '&#101;d&#117;';
				var addy_text5f5c05eaec8acce0891b911ab5f4cda7 = 'mrv&#97;ss01' + '&#64;' + 'l&#111;&#117;&#105;sv&#105;ll' + '&#46;' + '&#101;d&#117;';document.getElementById('cloak5f5c05eaec8acce0891b911ab5f4cda7').innerHTML += ''+addy_text5f5c05eaec8acce0891b911ab5f4cda7+'';
		
DTSTAMP:20260419T102906Z
DTSTART;TZID=America/Kentucky/Louisville:20141214T160000
DTEND;TZID=America/Kentucky/Louisville:20141214T190000
SEQUENCE:0
TRANSP:OPAQUE
END:VEVENT
END:VCALENDAR