BEGIN:VCALENDAR
VERSION:2.0
PRODID:-//jEvents 2.0 for Joomla//EN
CALSCALE:GREGORIAN
METHOD:PUBLISH
BEGIN:VTIMEZONE
TZID:America/Kentucky/Louisville
BEGIN:STANDARD
DTSTART:20141106T100000
RDATE:20150308T030000
TZOFFSETFROM:-0400
TZOFFSETTO:-0500
TZNAME:America/Kentucky/Louisville EST
END:STANDARD
BEGIN:STANDARD
DTSTART:20151101T010000
RDATE:20160313T030000
TZOFFSETFROM:-0400
TZOFFSETTO:-0500
TZNAME:America/Kentucky/Louisville EST
END:STANDARD
BEGIN:STANDARD
DTSTART:20161106T010000
RDATE:20170312T030000
TZOFFSETFROM:-0400
TZOFFSETTO:-0500
TZNAME:America/Kentucky/Louisville EST
END:STANDARD
BEGIN:STANDARD
DTSTART:20171105T010000
RDATE:20180311T030000
TZOFFSETFROM:-0400
TZOFFSETTO:-0500
TZNAME:America/Kentucky/Louisville EST
END:STANDARD
BEGIN:STANDARD
DTSTART:20181104T010000
RDATE:20190310T030000
TZOFFSETFROM:-0400
TZOFFSETTO:-0500
TZNAME:America/Kentucky/Louisville EST
END:STANDARD
BEGIN:STANDARD
DTSTART:20191103T010000
RDATE:20200308T030000
TZOFFSETFROM:-0400
TZOFFSETTO:-0500
TZNAME:America/Kentucky/Louisville EST
END:STANDARD
BEGIN:STANDARD
DTSTART:20201101T010000
RDATE:20210314T030000
TZOFFSETFROM:-0400
TZOFFSETTO:-0500
TZNAME:America/Kentucky/Louisville EST
END:STANDARD
BEGIN:DAYLIGHT
DTSTART:20150308T030000
RDATE:20151101T010000
TZOFFSETFROM:-0500
TZOFFSETTO:-0400
TZNAME:America/Kentucky/Louisville EDT
END:DAYLIGHT
BEGIN:DAYLIGHT
DTSTART:20160313T030000
RDATE:20161106T010000
TZOFFSETFROM:-0500
TZOFFSETTO:-0400
TZNAME:America/Kentucky/Louisville EDT
END:DAYLIGHT
BEGIN:DAYLIGHT
DTSTART:20170312T030000
RDATE:20171105T010000
TZOFFSETFROM:-0500
TZOFFSETTO:-0400
TZNAME:America/Kentucky/Louisville EDT
END:DAYLIGHT
BEGIN:DAYLIGHT
DTSTART:20180311T030000
RDATE:20181104T010000
TZOFFSETFROM:-0500
TZOFFSETTO:-0400
TZNAME:America/Kentucky/Louisville EDT
END:DAYLIGHT
BEGIN:DAYLIGHT
DTSTART:20190310T030000
RDATE:20191103T010000
TZOFFSETFROM:-0500
TZOFFSETTO:-0400
TZNAME:America/Kentucky/Louisville EDT
END:DAYLIGHT
BEGIN:DAYLIGHT
DTSTART:20200308T030000
RDATE:20201101T010000
TZOFFSETFROM:-0500
TZOFFSETTO:-0400
TZNAME:America/Kentucky/Louisville EDT
END:DAYLIGHT
END:VTIMEZONE
BEGIN:VEVENT
UID:c15402aa91b3be3f95dfa93b8f16f01c
CATEGORIES:Workshop
CREATED:20151022T192638
SUMMARY:Louisville Grows - Urban Grower Series
LOCATION:The People's Garden, 536 N. 44th St.
DESCRIPTION;ENCODING=QUOTED-PRINTABLE:\n\n\n\n\nLouisville Grows is offering an Urban Grower Series at the People
 's Garden located at 536 N 44th St.. Meetings will be held once on the firs
 t Saturday of each month. The next meeting will be held Saturday, November 
 7th.\n\n\nThanks to sponsorship from Slow Food Bluegrass, we're able to off
 er 4 full scholarships for participants interested in attending all 6 works
 hops. If interested, send a letter or email to at This email address is bei
 ng protected from spambots. You need JavaScript enabled to view it.
				doc
 ument.getElementById('cloak82f8db6c6b44a081d754c695d5a1faf2').innerHTML = '
 ';
				var prefix = '&#109;a' + 'i&#108;' + '&#116;o';
				var path = 'hr' 
 + 'ef' + '=';
				var addy82f8db6c6b44a081d754c695d5a1faf2 = 'v&#97;l&#101;
 r&#105;&#101;' + '&#64;';
				addy82f8db6c6b44a081d754c695d5a1faf2 = addy82
 f8db6c6b44a081d754c695d5a1faf2 + 'l&#111;&#117;&#105;sv&#105;ll&#101;gr&#11
 1;ws' + '&#46;' + '&#111;rg';
				var addy_text82f8db6c6b44a081d754c695d5a1
 faf2 = 'v&#97;l&#101;r&#105;&#101;' + '&#64;' + 'l&#111;&#117;&#105;sv&#105
 ;ll&#101;gr&#111;ws' + '&#46;' + '&#111;rg';document.getElementById('cloak8
 2f8db6c6b44a081d754c695d5a1faf2').innerHTML += ''+addy_text82f8db6c6b44a081
 d754c695d5a1faf2+'';
		 describing why you would like to participate.\n\n\n
 The cost for community or market gardeners is $25/each or $125 for all six.
  Tickets are available at: https://www.eventbrite.com/e/urban-grower-series
 -1-tickets-18126784701.\n
CONTACT:Valerie Magnuson, This email address is being protected from spambots. You need JavaScript enabled to view it.
				document.getElementById('cloak112c2d6378eda97f9a6f34c62d6f5e89').innerHTML = '';
				var prefix = '&#109;a' + 'i&#108;' + '&#116;o';
				var path = 'hr' + 'ef' + '=';
				var addy112c2d6378eda97f9a6f34c62d6f5e89 = 'v&#97;l&#101;r&#105;&#101;' + '&#64;';
				addy112c2d6378eda97f9a6f34c62d6f5e89 = addy112c2d6378eda97f9a6f34c62d6f5e89 + 'l&#111;&#117;&#105;sv&#105;ll&#101;gr&#111;ws' + '&#46;' + '&#111;rg';
				var addy_text112c2d6378eda97f9a6f34c62d6f5e89 = 'v&#97;l&#101;r&#105;&#101;' + '&#64;' + 'l&#111;&#117;&#105;sv&#105;ll&#101;gr&#111;ws' + '&#46;' + '&#111;rg';document.getElementById('cloak112c2d6378eda97f9a6f34c62d6f5e89').innerHTML += ''+addy_text112c2d6378eda97f9a6f34c62d6f5e89+'';
		
DTSTAMP:20260422T073315Z
DTSTART;TZID=America/Kentucky/Louisville:20151107T100000
DTEND;TZID=America/Kentucky/Louisville:20151107T170000
SEQUENCE:0
TRANSP:OPAQUE
END:VEVENT
END:VCALENDAR