BEGIN:VCALENDAR
VERSION:2.0
PRODID:-//jEvents 2.0 for Joomla//EN
CALSCALE:GREGORIAN
METHOD:PUBLISH
BEGIN:VTIMEZONE
TZID:America/Kentucky/Louisville
BEGIN:STANDARD
DTSTART:20141212T160000
RDATE:20150308T030000
TZOFFSETFROM:-0400
TZOFFSETTO:-0500
TZNAME:America/Kentucky/Louisville EST
END:STANDARD
BEGIN:STANDARD
DTSTART:20151101T010000
RDATE:20160313T030000
TZOFFSETFROM:-0400
TZOFFSETTO:-0500
TZNAME:America/Kentucky/Louisville EST
END:STANDARD
BEGIN:STANDARD
DTSTART:20161106T010000
RDATE:20170312T030000
TZOFFSETFROM:-0400
TZOFFSETTO:-0500
TZNAME:America/Kentucky/Louisville EST
END:STANDARD
BEGIN:STANDARD
DTSTART:20171105T010000
RDATE:20180311T030000
TZOFFSETFROM:-0400
TZOFFSETTO:-0500
TZNAME:America/Kentucky/Louisville EST
END:STANDARD
BEGIN:STANDARD
DTSTART:20181104T010000
RDATE:20190310T030000
TZOFFSETFROM:-0400
TZOFFSETTO:-0500
TZNAME:America/Kentucky/Louisville EST
END:STANDARD
BEGIN:STANDARD
DTSTART:20191103T010000
RDATE:20200308T030000
TZOFFSETFROM:-0400
TZOFFSETTO:-0500
TZNAME:America/Kentucky/Louisville EST
END:STANDARD
BEGIN:STANDARD
DTSTART:20201101T010000
RDATE:20210314T030000
TZOFFSETFROM:-0400
TZOFFSETTO:-0500
TZNAME:America/Kentucky/Louisville EST
END:STANDARD
BEGIN:DAYLIGHT
DTSTART:20150308T030000
RDATE:20151101T010000
TZOFFSETFROM:-0500
TZOFFSETTO:-0400
TZNAME:America/Kentucky/Louisville EDT
END:DAYLIGHT
BEGIN:DAYLIGHT
DTSTART:20160313T030000
RDATE:20161106T010000
TZOFFSETFROM:-0500
TZOFFSETTO:-0400
TZNAME:America/Kentucky/Louisville EDT
END:DAYLIGHT
BEGIN:DAYLIGHT
DTSTART:20170312T030000
RDATE:20171105T010000
TZOFFSETFROM:-0500
TZOFFSETTO:-0400
TZNAME:America/Kentucky/Louisville EDT
END:DAYLIGHT
BEGIN:DAYLIGHT
DTSTART:20180311T030000
RDATE:20181104T010000
TZOFFSETFROM:-0500
TZOFFSETTO:-0400
TZNAME:America/Kentucky/Louisville EDT
END:DAYLIGHT
BEGIN:DAYLIGHT
DTSTART:20190310T030000
RDATE:20191103T010000
TZOFFSETFROM:-0500
TZOFFSETTO:-0400
TZNAME:America/Kentucky/Louisville EDT
END:DAYLIGHT
BEGIN:DAYLIGHT
DTSTART:20200308T030000
RDATE:20201101T010000
TZOFFSETFROM:-0500
TZOFFSETTO:-0400
TZNAME:America/Kentucky/Louisville EDT
END:DAYLIGHT
END:VTIMEZONE
BEGIN:VEVENT
UID:1b5f4df77018b60b1ade0961178a3726
CATEGORIES:Community Event
CREATED:20151211T021954
SUMMARY:Community Holiday Reception – Yearlings Club
LOCATION:The Yearlings Club - 4309 W. Broadway
DESCRIPTION;ENCODING=QUOTED-PRINTABLE:\n\nThe community is invited to attend the Community Holiday Reception host
 ed by The University of Louisville and The Yearlings Club on Sunday, Decemb
 er 13th at The Yearlings Club located at 4309 W. Broadway from 4 pm to 7 pm
 ! Get in the holiday groove and come join the community in celebration of t
 he holiday season! This event is FREE and open to the public! Light refresh
 ments will be served and a cash bar will also be available for persons aged
  21 or over!\n\n\nIf you plan on attending please RSVP to Clest Lanier at 5
 02-852-3042 or email This email address is being protected from spambots. Y
 ou need JavaScript enabled to view it.
				document.getElementById('cloak76
 c76253f7c2778f24ac63cd481f6151').innerHTML = '';
				var prefix = '&#109;a'
  + 'i&#108;' + '&#116;o';
				var path = 'hr' + 'ef' + '=';
				var addy76c
 76253f7c2778f24ac63cd481f6151 = 'cvl&#97;n&#105;01' + '&#64;';
				addy76c7
 6253f7c2778f24ac63cd481f6151 = addy76c76253f7c2778f24ac63cd481f6151 + 'l&#1
 11;&#117;&#105;sv&#105;ll&#101;' + '&#46;' + '&#101;d&#117;';
				var addy_
 text76c76253f7c2778f24ac63cd481f6151 = 'cvl&#97;n&#105;01' + '&#64;' + 'l&#
 111;&#117;&#105;sv&#105;ll&#101;' + '&#46;' + '&#101;d&#117;';document.getE
 lementById('cloak76c76253f7c2778f24ac63cd481f6151').innerHTML += ''+addy_te
 xt76c76253f7c2778f24ac63cd481f6151+'';
		\n
CONTACT:Clest Lanier at 502-852-3042 or email This email address is being protected from spambots. You need JavaScript enabled to view it.
				document.getElementById('cloakeab4eb4f9b462ef71921fc06effb8c76').innerHTML = '';
				var prefix = '&#109;a' + 'i&#108;' + '&#116;o';
				var path = 'hr' + 'ef' + '=';
				var addyeab4eb4f9b462ef71921fc06effb8c76 = 'cvl&#97;n&#105;01' + '&#64;';
				addyeab4eb4f9b462ef71921fc06effb8c76 = addyeab4eb4f9b462ef71921fc06effb8c76 + 'l&#111;&#117;&#105;sv&#105;ll&#101;' + '&#46;' + '&#101;d&#117;';
				var addy_texteab4eb4f9b462ef71921fc06effb8c76 = 'cvl&#97;n&#105;01' + '&#64;' + 'l&#111;&#117;&#105;sv&#105;ll&#101;' + '&#46;' + '&#101;d&#117;';document.getElementById('cloakeab4eb4f9b462ef71921fc06effb8c76').innerHTML += ''+addy_texteab4eb4f9b462ef71921fc06effb8c76+'';
		
DTSTAMP:20260420T010050Z
DTSTART;TZID=America/Kentucky/Louisville:20151213T160000
DTEND;TZID=America/Kentucky/Louisville:20151213T190000
SEQUENCE:0
TRANSP:OPAQUE
END:VEVENT
END:VCALENDAR