BEGIN:VCALENDAR
VERSION:2.0
PRODID:-//jEvents 2.0 for Joomla//EN
CALSCALE:GREGORIAN
METHOD:PUBLISH
BEGIN:VTIMEZONE
TZID:America/Kentucky/Louisville
BEGIN:STANDARD
DTSTART:20151101T010000
RDATE:20160313T030000
TZOFFSETFROM:-0400
TZOFFSETTO:-0500
TZNAME:America/Kentucky/Louisville EST
END:STANDARD
BEGIN:STANDARD
DTSTART:20161106T010000
RDATE:20170312T030000
TZOFFSETFROM:-0400
TZOFFSETTO:-0500
TZNAME:America/Kentucky/Louisville EST
END:STANDARD
BEGIN:STANDARD
DTSTART:20171105T010000
RDATE:20180311T030000
TZOFFSETFROM:-0400
TZOFFSETTO:-0500
TZNAME:America/Kentucky/Louisville EST
END:STANDARD
BEGIN:STANDARD
DTSTART:20181104T010000
RDATE:20190310T030000
TZOFFSETFROM:-0400
TZOFFSETTO:-0500
TZNAME:America/Kentucky/Louisville EST
END:STANDARD
BEGIN:STANDARD
DTSTART:20191103T010000
RDATE:20200308T030000
TZOFFSETFROM:-0400
TZOFFSETTO:-0500
TZNAME:America/Kentucky/Louisville EST
END:STANDARD
BEGIN:STANDARD
DTSTART:20201101T010000
RDATE:20210314T030000
TZOFFSETFROM:-0400
TZOFFSETTO:-0500
TZNAME:America/Kentucky/Louisville EST
END:STANDARD
BEGIN:DAYLIGHT
DTSTART:20150323T080000
RDATE:20151101T010000
TZOFFSETFROM:-0500
TZOFFSETTO:-0400
TZNAME:America/Kentucky/Louisville EDT
END:DAYLIGHT
BEGIN:DAYLIGHT
DTSTART:20160313T030000
RDATE:20161106T010000
TZOFFSETFROM:-0500
TZOFFSETTO:-0400
TZNAME:America/Kentucky/Louisville EDT
END:DAYLIGHT
BEGIN:DAYLIGHT
DTSTART:20170312T030000
RDATE:20171105T010000
TZOFFSETFROM:-0500
TZOFFSETTO:-0400
TZNAME:America/Kentucky/Louisville EDT
END:DAYLIGHT
BEGIN:DAYLIGHT
DTSTART:20180311T030000
RDATE:20181104T010000
TZOFFSETFROM:-0500
TZOFFSETTO:-0400
TZNAME:America/Kentucky/Louisville EDT
END:DAYLIGHT
BEGIN:DAYLIGHT
DTSTART:20190310T030000
RDATE:20191103T010000
TZOFFSETFROM:-0500
TZOFFSETTO:-0400
TZNAME:America/Kentucky/Louisville EDT
END:DAYLIGHT
BEGIN:DAYLIGHT
DTSTART:20200308T030000
RDATE:20201101T010000
TZOFFSETFROM:-0500
TZOFFSETTO:-0400
TZNAME:America/Kentucky/Louisville EDT
END:DAYLIGHT
END:VTIMEZONE
BEGIN:VEVENT
UID:22eb8542bc5fc7bc662d8ec934da63d2
CATEGORIES:Workshop
CREATED:20160312T201655
SUMMARY:Small Developer Training Workshop: How to Develop Small Buildings in Louisville
LOCATION:Conference Theater - Kentucky International Convention Center, 221 S Fourth
  St
DESCRIPTION;ENCODING=QUOTED-PRINTABLE:\n\nSmall Developer Training Workshop: How to Develop Small Buildings in Lo
 uisville\n\n\nConference Theater - Kentucky International Convention Center
 , 221 S Fourth St\n\n\nWednesday, March 23, 2016 - 8 AM-5 PM\n\n\nDevelop S
 mall Buildings You Care About\n\n\nNeighborhoods across the country are fil
 led with empty lots, old buildings in despair, and tenants who cannot find 
 an apartment or commercial space that works for them. There are people who 
 walk around their neighborhood and imagine a million ideas to improve it. T
 hey see potential for infill, renovations, or starting a business. These sm
 all scale improvements work best when they come from small scale developers
 . The Small Developer Training Workshop is designed to help regular people 
 build something they can be proud of, close to home. The weekend workshop w
 ill provide technical skills and resources for small projects like 1-3 stor
 y buildings with less than 20 units, which are commercial or mixed in use. 
 The course assumes you know a lot about where you live, but not necessarily
  much about real estate and development. Through applied learning, guidance
  from seasoned coaches and networking with local like-minded people, this w
 orkshop is a first step toward leaving a physical legacy in your neighborho
 od.\n\n\nThis weekend workshop will provide technical skills and resources 
 to navigate development financing, zoning and entitlement, site selection, 
 building design and basic approaches to construction in order to assemble y
 our own small scale real estate deal. The workshop will also address practi
 cal issues surrounding becoming a developer, including making a transition 
 from your day job, risk management, quality of life and basic business setu
 p and contracting methods.\n\n\nRegular Registration available until Friday
 , March 18 - $199\n\n\nRegister today at http://www.incrementaldevelopment.
 org/louisville2016\n
DTSTAMP:20260422T120013Z
DTSTART;TZID=America/Kentucky/Louisville:20160323T080000
DTEND;TZID=America/Kentucky/Louisville:20160323T170000
SEQUENCE:0
TRANSP:OPAQUE
END:VEVENT
END:VCALENDAR