BEGIN:VCALENDAR
VERSION:2.0
PRODID:-//jEvents 2.0 for Joomla//EN
CALSCALE:GREGORIAN
METHOD:PUBLISH
BEGIN:VTIMEZONE
TZID:America/Kentucky/Louisville
BEGIN:STANDARD
DTSTART:20151101T010000
RDATE:20160313T030000
TZOFFSETFROM:-0400
TZOFFSETTO:-0500
TZNAME:America/Kentucky/Louisville EST
END:STANDARD
BEGIN:STANDARD
DTSTART:20161106T010000
RDATE:20170312T030000
TZOFFSETFROM:-0400
TZOFFSETTO:-0500
TZNAME:America/Kentucky/Louisville EST
END:STANDARD
BEGIN:STANDARD
DTSTART:20171105T010000
RDATE:20180311T030000
TZOFFSETFROM:-0400
TZOFFSETTO:-0500
TZNAME:America/Kentucky/Louisville EST
END:STANDARD
BEGIN:STANDARD
DTSTART:20181104T010000
RDATE:20190310T030000
TZOFFSETFROM:-0400
TZOFFSETTO:-0500
TZNAME:America/Kentucky/Louisville EST
END:STANDARD
BEGIN:STANDARD
DTSTART:20191103T010000
RDATE:20200308T030000
TZOFFSETFROM:-0400
TZOFFSETTO:-0500
TZNAME:America/Kentucky/Louisville EST
END:STANDARD
BEGIN:STANDARD
DTSTART:20201101T010000
RDATE:20210314T030000
TZOFFSETFROM:-0400
TZOFFSETTO:-0500
TZNAME:America/Kentucky/Louisville EST
END:STANDARD
BEGIN:DAYLIGHT
DTSTART:20150409T093000
RDATE:20151101T010000
TZOFFSETFROM:-0500
TZOFFSETTO:-0400
TZNAME:America/Kentucky/Louisville EDT
END:DAYLIGHT
BEGIN:DAYLIGHT
DTSTART:20160313T030000
RDATE:20161106T010000
TZOFFSETFROM:-0500
TZOFFSETTO:-0400
TZNAME:America/Kentucky/Louisville EDT
END:DAYLIGHT
BEGIN:DAYLIGHT
DTSTART:20170312T030000
RDATE:20171105T010000
TZOFFSETFROM:-0500
TZOFFSETTO:-0400
TZNAME:America/Kentucky/Louisville EDT
END:DAYLIGHT
BEGIN:DAYLIGHT
DTSTART:20180311T030000
RDATE:20181104T010000
TZOFFSETFROM:-0500
TZOFFSETTO:-0400
TZNAME:America/Kentucky/Louisville EDT
END:DAYLIGHT
BEGIN:DAYLIGHT
DTSTART:20190310T030000
RDATE:20191103T010000
TZOFFSETFROM:-0500
TZOFFSETTO:-0400
TZNAME:America/Kentucky/Louisville EDT
END:DAYLIGHT
BEGIN:DAYLIGHT
DTSTART:20200308T030000
RDATE:20201101T010000
TZOFFSETFROM:-0500
TZOFFSETTO:-0400
TZNAME:America/Kentucky/Louisville EDT
END:DAYLIGHT
END:VTIMEZONE
BEGIN:VEVENT
UID:da220496ab80a7bfcc95bde43a470a73
CATEGORIES:Workshop
CREATED:20160315T140822
SUMMARY:Business Smart Workshop
LOCATION:Louisville Urban League Community Room, 1535 West Broadway
DESCRIPTION;ENCODING=QUOTED-PRINTABLE:\n\n\nDelta Sigma Theta Sorority, Inc. Louisville Alumnae Chapter is helpin
 g entrepreneurs become business smart with the Business Smart Workshop.\n\n
 \nLearn what it takes to have a successful start-up. Complimentary lunch pr
 ovided.\n\n\nRegistration through EventBrite is required.\n\n\nPlease note 
 that sign-in starts at 9am the day of. We have some great speakers from the
  Louisville Community!\n\n\nSpeakers: E. Jones Law & Policy LLC, Louisville
  Urban League, KIVA City Louisville & Small Business Administration- KY Dis
 trict Office\n\n\nIf you would like access to the slides presented at the e
 vent, please add your email address when you register.\n\n\nIf you have any
  questions or concerns email This email address is being protected from spa
 mbots. You need JavaScript enabled to view it.
				document.getElementById(
 'cloak7bbda66a1c261a24179dfdc8e2fc5e9f').innerHTML = '';
				var prefix = '
 &#109;a' + 'i&#108;' + '&#116;o';
				var path = 'hr' + 'ef' + '=';
				var
  addy7bbda66a1c261a24179dfdc8e2fc5e9f = 'Ec&#111;nD&#101;v&#101;l&#111;pm&#
 101;nt' + '&#64;';
				addy7bbda66a1c261a24179dfdc8e2fc5e9f = addy7bbda66a1
 c261a24179dfdc8e2fc5e9f + 'dstl&#111;&#117;&#105;sv&#105;ll&#101;' + '&#46;
 ' + '&#111;rg?s&#117;bj&#101;ct=B&#117;s&#105;n&#101;ss%20Sm&#97;rt%20W&#11
 1;rksh&#111;p%20Apr&#105;l%209';
				var addy_text7bbda66a1c261a24179dfdc8e
 2fc5e9f = 'R&#97;v&#101;n';document.getElementById('cloak7bbda66a1c261a2417
 9dfdc8e2fc5e9f').innerHTML += ''+addy_text7bbda66a1c261a24179dfdc8e2fc5e9f+
 '';
		 at This email address is being protected from spambots. You need Jav
 aScript enabled to view it.
				document.getElementById('cloakfdbc09a9b8e9e
 7489d8ddb22ba9b924a').innerHTML = '';
				var prefix = '&#109;a' + 'i&#108;
 ' + '&#116;o';
				var path = 'hr' + 'ef' + '=';
				var addyfdbc09a9b8e9e7
 489d8ddb22ba9b924a = 'Ec&#111;nD&#101;v&#101;l&#111;pm&#101;nt' + '&#64;';

 				addyfdbc09a9b8e9e7489d8ddb22ba9b924a = addyfdbc09a9b8e9e7489d8ddb22ba9b
 924a + 'dstl&#111;&#117;&#105;sv&#105;ll&#101;' + '&#46;' + '&#111;rg';
			
 	var addy_textfdbc09a9b8e9e7489d8ddb22ba9b924a = 'Ec&#111;nD&#101;v&#101;l&
 #111;pm&#101;nt' + '&#64;' + 'dstl&#111;&#117;&#105;sv&#105;ll&#101;' + '&#
 46;' + '&#111;rg';document.getElementById('cloakfdbc09a9b8e9e7489d8ddb22ba9
 b924a').innerHTML += ''+addy_textfdbc09a9b8e9e7489d8ddb22ba9b924a+'';
		\n\
 n\nThis event will be on Saturday, April 9, 2016 from 9:30 AM to 3:00 PM (E
 DT) at the Louisville Urban League Community Room, 1535 West Broadway, Loui
 sville, KY 40203.\n
CONTACT:email Raven at This email address is being protected from spambots. You need JavaScript enabled to view it.
				document.getElementById('cloak19a2d10aeacfc56271649793af97c7df').innerHTML = '';
				var prefix = '&#109;a' + 'i&#108;' + '&#116;o';
				var path = 'hr' + 'ef' + '=';
				var addy19a2d10aeacfc56271649793af97c7df = 'Ec&#111;nD&#101;v&#101;l&#111;pm&#101;nt' + '&#64;';
				addy19a2d10aeacfc56271649793af97c7df = addy19a2d10aeacfc56271649793af97c7df + 'dstl&#111;&#117;&#105;sv&#105;ll&#101;' + '&#46;' + '&#111;rg';
				var addy_text19a2d10aeacfc56271649793af97c7df = 'Ec&#111;nD&#101;v&#101;l&#111;pm&#101;nt' + '&#64;' + 'dstl&#111;&#117;&#105;sv&#105;ll&#101;' + '&#46;' + '&#111;rg';document.getElementById('cloak19a2d10aeacfc56271649793af97c7df').innerHTML += ''+addy_text19a2d10aeacfc56271649793af97c7df+'';
		
DTSTAMP:20260422T133200Z
DTSTART;TZID=America/Kentucky/Louisville:20160409T093000
DTEND;TZID=America/Kentucky/Louisville:20160409T150000
SEQUENCE:0
TRANSP:OPAQUE
END:VEVENT
END:VCALENDAR