BEGIN:VCALENDAR
VERSION:2.0
PRODID:-//jEvents 2.0 for Joomla//EN
CALSCALE:GREGORIAN
METHOD:PUBLISH
BEGIN:VTIMEZONE
TZID:America/Kentucky/Louisville
BEGIN:STANDARD
DTSTART:20151101T010000
RDATE:20160313T030000
TZOFFSETFROM:-0400
TZOFFSETTO:-0500
TZNAME:America/Kentucky/Louisville EST
END:STANDARD
BEGIN:STANDARD
DTSTART:20161106T010000
RDATE:20170312T030000
TZOFFSETFROM:-0400
TZOFFSETTO:-0500
TZNAME:America/Kentucky/Louisville EST
END:STANDARD
BEGIN:STANDARD
DTSTART:20171105T010000
RDATE:20180311T030000
TZOFFSETFROM:-0400
TZOFFSETTO:-0500
TZNAME:America/Kentucky/Louisville EST
END:STANDARD
BEGIN:STANDARD
DTSTART:20181104T010000
RDATE:20190310T030000
TZOFFSETFROM:-0400
TZOFFSETTO:-0500
TZNAME:America/Kentucky/Louisville EST
END:STANDARD
BEGIN:STANDARD
DTSTART:20191103T010000
RDATE:20200308T030000
TZOFFSETFROM:-0400
TZOFFSETTO:-0500
TZNAME:America/Kentucky/Louisville EST
END:STANDARD
BEGIN:STANDARD
DTSTART:20201101T010000
RDATE:20210314T030000
TZOFFSETFROM:-0400
TZOFFSETTO:-0500
TZNAME:America/Kentucky/Louisville EST
END:STANDARD
BEGIN:DAYLIGHT
DTSTART:20150323T100000
RDATE:20151101T010000
TZOFFSETFROM:-0500
TZOFFSETTO:-0400
TZNAME:America/Kentucky/Louisville EDT
END:DAYLIGHT
BEGIN:DAYLIGHT
DTSTART:20160313T030000
RDATE:20161106T010000
TZOFFSETFROM:-0500
TZOFFSETTO:-0400
TZNAME:America/Kentucky/Louisville EDT
END:DAYLIGHT
BEGIN:DAYLIGHT
DTSTART:20170312T030000
RDATE:20171105T010000
TZOFFSETFROM:-0500
TZOFFSETTO:-0400
TZNAME:America/Kentucky/Louisville EDT
END:DAYLIGHT
BEGIN:DAYLIGHT
DTSTART:20180311T030000
RDATE:20181104T010000
TZOFFSETFROM:-0500
TZOFFSETTO:-0400
TZNAME:America/Kentucky/Louisville EDT
END:DAYLIGHT
BEGIN:DAYLIGHT
DTSTART:20190310T030000
RDATE:20191103T010000
TZOFFSETFROM:-0500
TZOFFSETTO:-0400
TZNAME:America/Kentucky/Louisville EDT
END:DAYLIGHT
BEGIN:DAYLIGHT
DTSTART:20200308T030000
RDATE:20201101T010000
TZOFFSETFROM:-0500
TZOFFSETTO:-0400
TZNAME:America/Kentucky/Louisville EDT
END:DAYLIGHT
END:VTIMEZONE
BEGIN:VEVENT
UID:18272f20abde841d0892677697ed2064
CATEGORIES:Services
CREATED:20160317T011757
SUMMARY:Free Job Hunter Bus rolling to job fairs this month
LOCATION:Kentucky International Convention Center  Exhibit Hall 1A&1B  Fourth & Mark
 et Streets
DESCRIPTION;ENCODING=QUOTED-PRINTABLE:\n
CONTACT:Tera West at (502) 566-3370 or email This email address is being protected from spambots. You need JavaScript enabled to view it.
				document.getElementById('cloakc3b4571ed91f568aaced6600c4ec5ea8').innerHTML = '';
				var prefix = '&#109;a' + 'i&#108;' + '&#116;o';
				var path = 'hr' + 'ef' + '=';
				var addyc3b4571ed91f568aaced6600c4ec5ea8 = 'tw&#101;st' + '&#64;';
				addyc3b4571ed91f568aaced6600c4ec5ea8 = addyc3b4571ed91f568aaced6600c4ec5ea8 + 'l&#117;l' + '&#46;' + '&#111;rg';
				var addy_textc3b4571ed91f568aaced6600c4ec5ea8 = 'tw&#101;st' + '&#64;' + 'l&#117;l' + '&#46;' + '&#111;rg';document.getElementById('cloakc3b4571ed91f568aaced6600c4ec5ea8').innerHTML += ''+addy_textc3b4571ed91f568aaced6600c4ec5ea8+'';
		, Tina Woods at (502) 566-3371 or e-mail This email address is being protected from spambots. You need JavaScript enabled to view it.
				document.getElementById('cloak92cc06006c5d60fdfd7f0216c693e7fc').innerHTML = '';
				var prefix = '&#109;a' + 'i&#108;' + '&#116;o';
				var path = 'hr' + 'ef' + '=';
				var addy92cc06006c5d60fdfd7f0216c693e7fc = '&#101;w&#111;&#111;ds' + '&#64;';
				addy92cc06006c5d60fdfd7f0216c693e7fc = addy92cc06006c5d60fdfd7f0216c693e7fc + 'l&#117;l' + '&#46;' + '&#111;rg';
				var addy_text92cc06006c5d60fdfd7f0216c693e7fc = '&#101;w&#111;&#111;ds' + '&#64;' + 'l&#117;l' + '&#46;' + '&#111;rg';document.getElementById('cloak92cc06006c5d60fdfd7f0216c693e7fc').innerHTML += ''+addy_text92cc06006c5d60fdfd7f0216c693e7fc+'';
		 
DTSTAMP:20260422T093300Z
DTSTART;TZID=America/Kentucky/Louisville:20160323T100000
DTEND;TZID=America/Kentucky/Louisville:20160323T150000
SEQUENCE:0
TRANSP:OPAQUE
END:VEVENT
END:VCALENDAR