BEGIN:VCALENDAR
VERSION:2.0
PRODID:-//jEvents 2.0 for Joomla//EN
CALSCALE:GREGORIAN
METHOD:PUBLISH
BEGIN:VTIMEZONE
TZID:America/Kentucky/Louisville
BEGIN:STANDARD
DTSTART:20131103T010000
RDATE:20140309T030000
TZOFFSETFROM:-0400
TZOFFSETTO:-0500
TZNAME:America/Kentucky/Louisville EST
END:STANDARD
BEGIN:STANDARD
DTSTART:20141102T010000
RDATE:20150308T030000
TZOFFSETFROM:-0400
TZOFFSETTO:-0500
TZNAME:America/Kentucky/Louisville EST
END:STANDARD
BEGIN:STANDARD
DTSTART:20151101T010000
RDATE:20160313T030000
TZOFFSETFROM:-0400
TZOFFSETTO:-0500
TZNAME:America/Kentucky/Louisville EST
END:STANDARD
BEGIN:STANDARD
DTSTART:20161106T010000
RDATE:20170312T030000
TZOFFSETFROM:-0400
TZOFFSETTO:-0500
TZNAME:America/Kentucky/Louisville EST
END:STANDARD
BEGIN:STANDARD
DTSTART:20171105T010000
RDATE:20180311T030000
TZOFFSETFROM:-0400
TZOFFSETTO:-0500
TZNAME:America/Kentucky/Louisville EST
END:STANDARD
BEGIN:STANDARD
DTSTART:20181104T010000
RDATE:20190310T030000
TZOFFSETFROM:-0400
TZOFFSETTO:-0500
TZNAME:America/Kentucky/Louisville EST
END:STANDARD
BEGIN:STANDARD
DTSTART:20191103T010000
RDATE:20200308T030000
TZOFFSETFROM:-0400
TZOFFSETTO:-0500
TZNAME:America/Kentucky/Louisville EST
END:STANDARD
BEGIN:STANDARD
DTSTART:20201101T010000
RDATE:20210314T030000
TZOFFSETFROM:-0400
TZOFFSETTO:-0500
TZNAME:America/Kentucky/Louisville EST
END:STANDARD
BEGIN:DAYLIGHT
DTSTART:20131023T180000
RDATE:20131103T010000
TZOFFSETFROM:-0500
TZOFFSETTO:-0400
TZNAME:America/Kentucky/Louisville EDT
END:DAYLIGHT
BEGIN:DAYLIGHT
DTSTART:20140309T030000
RDATE:20141102T010000
TZOFFSETFROM:-0500
TZOFFSETTO:-0400
TZNAME:America/Kentucky/Louisville EDT
END:DAYLIGHT
BEGIN:DAYLIGHT
DTSTART:20150308T030000
RDATE:20151101T010000
TZOFFSETFROM:-0500
TZOFFSETTO:-0400
TZNAME:America/Kentucky/Louisville EDT
END:DAYLIGHT
BEGIN:DAYLIGHT
DTSTART:20160313T030000
RDATE:20161106T010000
TZOFFSETFROM:-0500
TZOFFSETTO:-0400
TZNAME:America/Kentucky/Louisville EDT
END:DAYLIGHT
BEGIN:DAYLIGHT
DTSTART:20170312T030000
RDATE:20171105T010000
TZOFFSETFROM:-0500
TZOFFSETTO:-0400
TZNAME:America/Kentucky/Louisville EDT
END:DAYLIGHT
BEGIN:DAYLIGHT
DTSTART:20180311T030000
RDATE:20181104T010000
TZOFFSETFROM:-0500
TZOFFSETTO:-0400
TZNAME:America/Kentucky/Louisville EDT
END:DAYLIGHT
BEGIN:DAYLIGHT
DTSTART:20190310T030000
RDATE:20191103T010000
TZOFFSETFROM:-0500
TZOFFSETTO:-0400
TZNAME:America/Kentucky/Louisville EDT
END:DAYLIGHT
BEGIN:DAYLIGHT
DTSTART:20200308T030000
RDATE:20201101T010000
TZOFFSETFROM:-0500
TZOFFSETTO:-0400
TZNAME:America/Kentucky/Louisville EDT
END:DAYLIGHT
END:VTIMEZONE
BEGIN:VEVENT
UID:9b07359e3d8eb45d3bce2f55f6ff73ac
CATEGORIES:Community Event
CREATED:20141021T164955
SUMMARY:Meeting Cancer Face to Face Teen Retreat
LOCATION:Mt. St, Francis Retreat Center Floyds Knobs, IN
DESCRIPTION;ENCODING=QUOTED-PRINTABLE:\n\nMeeting Cancer Face to Face Teen Retreat\n\n\nOctober 24, 2014, 6:00pm 
 - October 26, 2014 , 12 noon\n\n\nMt. St, Francis Retreat Center Floyds Kno
 bs, IN Ages 13 - 18 Advanced Registration required by October 22, 2014\n\n\
 nContact: Missy at Gilda's Club Louisville\n502-583-0075 or This email addr
 ess is being protected from spambots. You need JavaScript enabled to view i
 t.
				document.getElementById('cloak830995338ac6153fa600fc2f4df2207d').inn
 erHTML = '';
				var prefix = '&#109;a' + 'i&#108;' + '&#116;o';
				var pa
 th = 'hr' + 'ef' + '=';
				var addy830995338ac6153fa600fc2f4df2207d = 'm&#
 105;ssy' + '&#64;';
				addy830995338ac6153fa600fc2f4df2207d = addy83099533
 8ac6153fa600fc2f4df2207d + 'g&#105;ld&#97;scl&#117;bl&#111;&#117;&#105;sv&#
 105;ll&#101;' + '&#46;' + '&#111;rg';
				var addy_text830995338ac6153fa600
 fc2f4df2207d = 'm&#105;ssy' + '&#64;' + 'g&#105;ld&#97;scl&#117;bl&#111;&#1
 17;&#105;sv&#105;ll&#101;' + '&#46;' + '&#111;rg';document.getElementById('
 cloak830995338ac6153fa600fc2f4df2207d').innerHTML += ''+addy_text830995338a
 c6153fa600fc2f4df2207d+'';
		\n
CONTACT: Missy at Gilda's Club Louisville 502-583-0075 or This email address is being protected from spambots. You need JavaScript enabled to view it.
				document.getElementById('cloakb52d2bef47e6a04c7cded3c53e261680').innerHTML = '';
				var prefix = '&#109;a' + 'i&#108;' + '&#116;o';
				var path = 'hr' + 'ef' + '=';
				var addyb52d2bef47e6a04c7cded3c53e261680 = 'm&#105;ssy' + '&#64;';
				addyb52d2bef47e6a04c7cded3c53e261680 = addyb52d2bef47e6a04c7cded3c53e261680 + 'g&#105;ld&#97;scl&#117;bl&#111;&#117;&#105;sv&#105;ll&#101;' + '&#46;' + '&#111;rg';
				var addy_textb52d2bef47e6a04c7cded3c53e261680 = 'm&#105;ssy' + '&#64;' + 'g&#105;ld&#97;scl&#117;bl&#111;&#117;&#105;sv&#105;ll&#101;' + '&#46;' + '&#111;rg';document.getElementById('cloakb52d2bef47e6a04c7cded3c53e261680').innerHTML += ''+addy_textb52d2bef47e6a04c7cded3c53e261680+'';
		
DTSTAMP:20260421T062708Z
DTSTART;TZID=America/Kentucky/Louisville:20141024T180000
DTEND;TZID=America/Kentucky/Louisville:20141026T120000
SEQUENCE:0
TRANSP:OPAQUE
END:VEVENT
END:VCALENDAR