BEGIN:VCALENDAR
VERSION:2.0
PRODID:-//jEvents 2.0 for Joomla//EN
CALSCALE:GREGORIAN
METHOD:PUBLISH
BEGIN:VTIMEZONE
TZID:America/Kentucky/Louisville
BEGIN:STANDARD
DTSTART:20131231T130000
RDATE:20140309T030000
TZOFFSETFROM:-0400
TZOFFSETTO:-0500
TZNAME:America/Kentucky/Louisville EST
END:STANDARD
BEGIN:STANDARD
DTSTART:20141102T010000
RDATE:20150308T030000
TZOFFSETFROM:-0400
TZOFFSETTO:-0500
TZNAME:America/Kentucky/Louisville EST
END:STANDARD
BEGIN:STANDARD
DTSTART:20151101T010000
RDATE:20160313T030000
TZOFFSETFROM:-0400
TZOFFSETTO:-0500
TZNAME:America/Kentucky/Louisville EST
END:STANDARD
BEGIN:STANDARD
DTSTART:20161106T010000
RDATE:20170312T030000
TZOFFSETFROM:-0400
TZOFFSETTO:-0500
TZNAME:America/Kentucky/Louisville EST
END:STANDARD
BEGIN:STANDARD
DTSTART:20171105T010000
RDATE:20180311T030000
TZOFFSETFROM:-0400
TZOFFSETTO:-0500
TZNAME:America/Kentucky/Louisville EST
END:STANDARD
BEGIN:STANDARD
DTSTART:20181104T010000
RDATE:20190310T030000
TZOFFSETFROM:-0400
TZOFFSETTO:-0500
TZNAME:America/Kentucky/Louisville EST
END:STANDARD
BEGIN:STANDARD
DTSTART:20191103T010000
RDATE:20200308T030000
TZOFFSETFROM:-0400
TZOFFSETTO:-0500
TZNAME:America/Kentucky/Louisville EST
END:STANDARD
BEGIN:STANDARD
DTSTART:20201101T010000
RDATE:20210314T030000
TZOFFSETFROM:-0400
TZOFFSETTO:-0500
TZNAME:America/Kentucky/Louisville EST
END:STANDARD
BEGIN:DAYLIGHT
DTSTART:20140309T030000
RDATE:20141102T010000
TZOFFSETFROM:-0500
TZOFFSETTO:-0400
TZNAME:America/Kentucky/Louisville EDT
END:DAYLIGHT
BEGIN:DAYLIGHT
DTSTART:20150308T030000
RDATE:20151101T010000
TZOFFSETFROM:-0500
TZOFFSETTO:-0400
TZNAME:America/Kentucky/Louisville EDT
END:DAYLIGHT
BEGIN:DAYLIGHT
DTSTART:20160313T030000
RDATE:20161106T010000
TZOFFSETFROM:-0500
TZOFFSETTO:-0400
TZNAME:America/Kentucky/Louisville EDT
END:DAYLIGHT
BEGIN:DAYLIGHT
DTSTART:20170312T030000
RDATE:20171105T010000
TZOFFSETFROM:-0500
TZOFFSETTO:-0400
TZNAME:America/Kentucky/Louisville EDT
END:DAYLIGHT
BEGIN:DAYLIGHT
DTSTART:20180311T030000
RDATE:20181104T010000
TZOFFSETFROM:-0500
TZOFFSETTO:-0400
TZNAME:America/Kentucky/Louisville EDT
END:DAYLIGHT
BEGIN:DAYLIGHT
DTSTART:20190310T030000
RDATE:20191103T010000
TZOFFSETFROM:-0500
TZOFFSETTO:-0400
TZNAME:America/Kentucky/Louisville EDT
END:DAYLIGHT
BEGIN:DAYLIGHT
DTSTART:20200308T030000
RDATE:20201101T010000
TZOFFSETFROM:-0500
TZOFFSETTO:-0400
TZNAME:America/Kentucky/Louisville EDT
END:DAYLIGHT
END:VTIMEZONE
BEGIN:VEVENT
UID:sdae00dvpidncoeo2tpp2imfpk@google.com
CATEGORIES:Ongoing Community/Organizational Programming
CLASS:PUBLIC
CREATED:20150717T021821
SUMMARY:New Year Meditation: Active Creation and Community
LOCATION:Carl Braden Memorial Center 3208 W Broadway, Louisville, Kentucky 40211
DESCRIPTION;ENCODING=QUOTED-PRINTABLE:As a way of offering a holistic approach to activism and in general - World
  Changing and Creation - a day of meditation has been proposed to bring in 
 the New Year. <br/><br/>As more and more of the community expresses interes
 t in Louisville #BlackLivesMatter, and with so many having been actively or
 ganizing for months, the idea came about to offer a moment for reflection a
 nd self-care to everyone. <br/><br/>In tandem, it was recognized that key t
 o any form of resistance or activism is to make sure to create community al
 ong the way, and begin to prefigure the world as you hope to embody it. And
  in what better way could this be engaged than a group meditation.<br/><br/
 >If interested please make sure to RSVP through the link invite. Included i
 n the program will be a group meditation, laughter yoga, burning of sacrame
 nt, and intention setting activities. Please bring blankets, pillows, and m
 ats, along with ANYTHING YOU WOULD LIKE TO SHARE such as: words of encourag
 ement, song/music, art, poetry, food, and more.<br/><br/>We look forward to
  opportunity to rest in community with everyone and look forward to all the
  potential the New Year will bring.
DTSTAMP:20260419T122525Z
DTSTART;TZID=America/Kentucky/Louisville:20150101T130000
DTEND;TZID=America/Kentucky/Louisville:20150101T140000
SEQUENCE:1
TRANSP:OPAQUE
END:VEVENT
END:VCALENDAR