BEGIN:VCALENDAR
VERSION:2.0
PRODID:-//jEvents 2.0 for Joomla//EN
CALSCALE:GREGORIAN
METHOD:PUBLISH
BEGIN:VTIMEZONE
TZID:America/Kentucky/Louisville
BEGIN:STANDARD
DTSTART:20140116T110000
RDATE:20140309T030000
TZOFFSETFROM:-0400
TZOFFSETTO:-0500
TZNAME:America/Kentucky/Louisville EST
END:STANDARD
BEGIN:STANDARD
DTSTART:20141102T010000
RDATE:20150308T030000
TZOFFSETFROM:-0400
TZOFFSETTO:-0500
TZNAME:America/Kentucky/Louisville EST
END:STANDARD
BEGIN:STANDARD
DTSTART:20151101T010000
RDATE:20160313T030000
TZOFFSETFROM:-0400
TZOFFSETTO:-0500
TZNAME:America/Kentucky/Louisville EST
END:STANDARD
BEGIN:STANDARD
DTSTART:20161106T010000
RDATE:20170312T030000
TZOFFSETFROM:-0400
TZOFFSETTO:-0500
TZNAME:America/Kentucky/Louisville EST
END:STANDARD
BEGIN:STANDARD
DTSTART:20171105T010000
RDATE:20180311T030000
TZOFFSETFROM:-0400
TZOFFSETTO:-0500
TZNAME:America/Kentucky/Louisville EST
END:STANDARD
BEGIN:STANDARD
DTSTART:20181104T010000
RDATE:20190310T030000
TZOFFSETFROM:-0400
TZOFFSETTO:-0500
TZNAME:America/Kentucky/Louisville EST
END:STANDARD
BEGIN:STANDARD
DTSTART:20191103T010000
RDATE:20200308T030000
TZOFFSETFROM:-0400
TZOFFSETTO:-0500
TZNAME:America/Kentucky/Louisville EST
END:STANDARD
BEGIN:STANDARD
DTSTART:20201101T010000
RDATE:20210314T030000
TZOFFSETFROM:-0400
TZOFFSETTO:-0500
TZNAME:America/Kentucky/Louisville EST
END:STANDARD
BEGIN:DAYLIGHT
DTSTART:20140309T030000
RDATE:20141102T010000
TZOFFSETFROM:-0500
TZOFFSETTO:-0400
TZNAME:America/Kentucky/Louisville EDT
END:DAYLIGHT
BEGIN:DAYLIGHT
DTSTART:20150308T030000
RDATE:20151101T010000
TZOFFSETFROM:-0500
TZOFFSETTO:-0400
TZNAME:America/Kentucky/Louisville EDT
END:DAYLIGHT
BEGIN:DAYLIGHT
DTSTART:20160313T030000
RDATE:20161106T010000
TZOFFSETFROM:-0500
TZOFFSETTO:-0400
TZNAME:America/Kentucky/Louisville EDT
END:DAYLIGHT
BEGIN:DAYLIGHT
DTSTART:20170312T030000
RDATE:20171105T010000
TZOFFSETFROM:-0500
TZOFFSETTO:-0400
TZNAME:America/Kentucky/Louisville EDT
END:DAYLIGHT
BEGIN:DAYLIGHT
DTSTART:20180311T030000
RDATE:20181104T010000
TZOFFSETFROM:-0500
TZOFFSETTO:-0400
TZNAME:America/Kentucky/Louisville EDT
END:DAYLIGHT
BEGIN:DAYLIGHT
DTSTART:20190310T030000
RDATE:20191103T010000
TZOFFSETFROM:-0500
TZOFFSETTO:-0400
TZNAME:America/Kentucky/Louisville EDT
END:DAYLIGHT
BEGIN:DAYLIGHT
DTSTART:20200308T030000
RDATE:20201101T010000
TZOFFSETFROM:-0500
TZOFFSETTO:-0400
TZNAME:America/Kentucky/Louisville EDT
END:DAYLIGHT
END:VTIMEZONE
BEGIN:VEVENT
UID:f8oh82qhbfcbn1splejdp418to@google.com
CATEGORIES:Ongoing Community/Organizational Programming
CREATED:20150717T021821
SUMMARY:The Revolution Will Not Be Televised: Community Discussion
LOCATION:UofL: Belknap Campus, Shumaker Research Building, room 139
DESCRIPTION;ENCODING=QUOTED-PRINTABLE:Mahogany Mayfield, a third year student at the University of Louisville inv
 ites guests to an event he is organizing on behalf of The Association of Bl
 ack Students and The Muhammad Ali Institute for Peace and Justice. <br/><br
 />This event is geared towards coming together and discussing the injustice
  taking place, touching on what has been heavily portrayed in our media as 
 of lately, yet not disregarding the BIG PICTURE. It is meant for us to come
  together, and figure out what Louisville's contribution will be, and not j
 ust a repost or retweet. Mayfield would like to have people there that have
  started taken action along with those that have been reflecting and strate
 gizing. <br/><br/>For the first portion of the event, guests will get a fee
 l of who is in the room, along with an idea of what has already been done. 
 Guests will discuss their agendas and afterwards form Workgroups.<br/><br/>
 The purpose of the workgroups is to come together with common interests, ba
 sed off all of our overall objective: social justice. These workgroups will
  also be a sense of a support system. Each workgroup will have a "Delegated
   Chair," essentially the person that will check in with the other workgrou
 ps and their progress. <br/>
DTSTAMP:20260419T103319Z
DTSTART;TZID=America/Kentucky/Louisville:20150117T110000
DTEND;TZID=America/Kentucky/Louisville:20150117T130000
SEQUENCE:1
TRANSP:OPAQUE
END:VEVENT
END:VCALENDAR