BEGIN:VCALENDAR
VERSION:2.0
PRODID:-//jEvents 2.0 for Joomla//EN
CALSCALE:GREGORIAN
METHOD:PUBLISH
BEGIN:VTIMEZONE
TZID:America/Kentucky/Louisville
BEGIN:STANDARD
DTSTART:20140110T120000
RDATE:20140309T030000
TZOFFSETFROM:-0400
TZOFFSETTO:-0500
TZNAME:America/Kentucky/Louisville EST
END:STANDARD
BEGIN:STANDARD
DTSTART:20141102T010000
RDATE:20150308T030000
TZOFFSETFROM:-0400
TZOFFSETTO:-0500
TZNAME:America/Kentucky/Louisville EST
END:STANDARD
BEGIN:STANDARD
DTSTART:20151101T010000
RDATE:20160313T030000
TZOFFSETFROM:-0400
TZOFFSETTO:-0500
TZNAME:America/Kentucky/Louisville EST
END:STANDARD
BEGIN:STANDARD
DTSTART:20161106T010000
RDATE:20170312T030000
TZOFFSETFROM:-0400
TZOFFSETTO:-0500
TZNAME:America/Kentucky/Louisville EST
END:STANDARD
BEGIN:STANDARD
DTSTART:20171105T010000
RDATE:20180311T030000
TZOFFSETFROM:-0400
TZOFFSETTO:-0500
TZNAME:America/Kentucky/Louisville EST
END:STANDARD
BEGIN:STANDARD
DTSTART:20181104T010000
RDATE:20190310T030000
TZOFFSETFROM:-0400
TZOFFSETTO:-0500
TZNAME:America/Kentucky/Louisville EST
END:STANDARD
BEGIN:STANDARD
DTSTART:20191103T010000
RDATE:20200308T030000
TZOFFSETFROM:-0400
TZOFFSETTO:-0500
TZNAME:America/Kentucky/Louisville EST
END:STANDARD
BEGIN:STANDARD
DTSTART:20201101T010000
RDATE:20210314T030000
TZOFFSETFROM:-0400
TZOFFSETTO:-0500
TZNAME:America/Kentucky/Louisville EST
END:STANDARD
BEGIN:DAYLIGHT
DTSTART:20140309T030000
RDATE:20141102T010000
TZOFFSETFROM:-0500
TZOFFSETTO:-0400
TZNAME:America/Kentucky/Louisville EDT
END:DAYLIGHT
BEGIN:DAYLIGHT
DTSTART:20150308T030000
RDATE:20151101T010000
TZOFFSETFROM:-0500
TZOFFSETTO:-0400
TZNAME:America/Kentucky/Louisville EDT
END:DAYLIGHT
BEGIN:DAYLIGHT
DTSTART:20160313T030000
RDATE:20161106T010000
TZOFFSETFROM:-0500
TZOFFSETTO:-0400
TZNAME:America/Kentucky/Louisville EDT
END:DAYLIGHT
BEGIN:DAYLIGHT
DTSTART:20170312T030000
RDATE:20171105T010000
TZOFFSETFROM:-0500
TZOFFSETTO:-0400
TZNAME:America/Kentucky/Louisville EDT
END:DAYLIGHT
BEGIN:DAYLIGHT
DTSTART:20180311T030000
RDATE:20181104T010000
TZOFFSETFROM:-0500
TZOFFSETTO:-0400
TZNAME:America/Kentucky/Louisville EDT
END:DAYLIGHT
BEGIN:DAYLIGHT
DTSTART:20190310T030000
RDATE:20191103T010000
TZOFFSETFROM:-0500
TZOFFSETTO:-0400
TZNAME:America/Kentucky/Louisville EDT
END:DAYLIGHT
BEGIN:DAYLIGHT
DTSTART:20200308T030000
RDATE:20201101T010000
TZOFFSETFROM:-0500
TZOFFSETTO:-0400
TZNAME:America/Kentucky/Louisville EDT
END:DAYLIGHT
END:VTIMEZONE
BEGIN:VEVENT
UID:f3ak8fincvog18a2kfetgcgt24@google.com
CATEGORIES:Ongoing Community/Organizational Programming
CREATED:20150717T021821
SUMMARY:Meditation & Yoga
LOCATION:3208 W Broadway, Louisville, KY 40211, USA
DESCRIPTION;ENCODING=QUOTED-PRINTABLE:As a way of offering a holistic approach to activism and in general - World
  Changing and Creation - we are providing mediation and yoga every other Su
 nday starting on the 11th. <br/><br/>As more and more of the community expr
 esses interest in Louisville #BlackLivesMatter, and with so many having bee
 n actively organizing for months, the idea came about to offer a moment for
  reflection and self-care to everyone. <br/><br/>In tandem, it was recogniz
 ed that key to any form of resistance or activism is to make sure to create
  community along the way, and begin to prefigure the world as you hope to e
 mbody it. And in what better way could this be engaged than a group meditat
 ion.<br/><br/>If interested please make sure to RSVP @ <span id="cloakf044b
 d5a73e9ea5c67c18168a9f82e9a">This email address is being protected from spa
 mbots. You need JavaScript enabled to view it.</span><script type='text/jav
 ascript'>
				document.getElementById('cloakf044bd5a73e9ea5c67c18168a9f82e9
 a').innerHTML = '';
				var prefix = '&#109;a' + 'i&#108;' + '&#116;o';
			
 	var path = 'hr' + 'ef' + '=';
				var addyf044bd5a73e9ea5c67c18168a9f82e9a
  = 'st&#97;nd&#117;pl&#111;&#117;&#105;sv&#105;ll&#101;' + '&#64;';
				add
 yf044bd5a73e9ea5c67c18168a9f82e9a = addyf044bd5a73e9ea5c67c18168a9f82e9a + 
 'gm&#97;&#105;l' + '&#46;' + 'c&#111;m';
				var addy_textf044bd5a73e9ea5c6
 7c18168a9f82e9a = 'st&#97;nd&#117;pl&#111;&#117;&#105;sv&#105;ll&#101;' + '
 &#64;' + 'gm&#97;&#105;l' + '&#46;' + 'c&#111;m';document.getElementById('c
 loakf044bd5a73e9ea5c67c18168a9f82e9a').innerHTML += '<a ' + path + '\'' + p
 refix + ':' + addyf044bd5a73e9ea5c67c18168a9f82e9a + '\'>'+addy_textf044bd5
 a73e9ea5c67c18168a9f82e9a+'<\/a>';
		</script> or on the FB page at <a href
 ="https://www.facebook.com/standuplouisville.">https://www.facebook.com/sta
 nduplouisville.</a> <br/><br/>Included in the program will be a group medit
 ation, laughter yoga, burning of sacrament, and intention setting activitie
 s. Please bring blankets, pillows, and mats, along with ANYTHING YOU WOULD 
 LIKE TO SHARE such as: words of encouragement, song/music, art, poetry, foo
 d, and more.<br/>
DTSTAMP:20260419T102036Z
DTSTART;TZID=America/Kentucky/Louisville:20150111T120000
DTEND;TZID=America/Kentucky/Louisville:20150111T140000
SEQUENCE:0
TRANSP:OPAQUE
END:VEVENT
END:VCALENDAR