BEGIN:VCALENDAR
VERSION:2.0
PRODID:-//jEvents 2.0 for Joomla//EN
CALSCALE:GREGORIAN
METHOD:PUBLISH
BEGIN:VTIMEZONE
TZID:America/Kentucky/Louisville
BEGIN:STANDARD
DTSTART:20140114T170000
RDATE:20140309T030000
TZOFFSETFROM:-0400
TZOFFSETTO:-0500
TZNAME:America/Kentucky/Louisville EST
END:STANDARD
BEGIN:STANDARD
DTSTART:20141102T010000
RDATE:20150308T030000
TZOFFSETFROM:-0400
TZOFFSETTO:-0500
TZNAME:America/Kentucky/Louisville EST
END:STANDARD
BEGIN:STANDARD
DTSTART:20151101T010000
RDATE:20160313T030000
TZOFFSETFROM:-0400
TZOFFSETTO:-0500
TZNAME:America/Kentucky/Louisville EST
END:STANDARD
BEGIN:STANDARD
DTSTART:20161106T010000
RDATE:20170312T030000
TZOFFSETFROM:-0400
TZOFFSETTO:-0500
TZNAME:America/Kentucky/Louisville EST
END:STANDARD
BEGIN:STANDARD
DTSTART:20171105T010000
RDATE:20180311T030000
TZOFFSETFROM:-0400
TZOFFSETTO:-0500
TZNAME:America/Kentucky/Louisville EST
END:STANDARD
BEGIN:STANDARD
DTSTART:20181104T010000
RDATE:20190310T030000
TZOFFSETFROM:-0400
TZOFFSETTO:-0500
TZNAME:America/Kentucky/Louisville EST
END:STANDARD
BEGIN:STANDARD
DTSTART:20191103T010000
RDATE:20200308T030000
TZOFFSETFROM:-0400
TZOFFSETTO:-0500
TZNAME:America/Kentucky/Louisville EST
END:STANDARD
BEGIN:STANDARD
DTSTART:20201101T010000
RDATE:20210314T030000
TZOFFSETFROM:-0400
TZOFFSETTO:-0500
TZNAME:America/Kentucky/Louisville EST
END:STANDARD
BEGIN:DAYLIGHT
DTSTART:20140309T030000
RDATE:20141102T010000
TZOFFSETFROM:-0500
TZOFFSETTO:-0400
TZNAME:America/Kentucky/Louisville EDT
END:DAYLIGHT
BEGIN:DAYLIGHT
DTSTART:20150308T030000
RDATE:20151101T010000
TZOFFSETFROM:-0500
TZOFFSETTO:-0400
TZNAME:America/Kentucky/Louisville EDT
END:DAYLIGHT
BEGIN:DAYLIGHT
DTSTART:20160313T030000
RDATE:20161106T010000
TZOFFSETFROM:-0500
TZOFFSETTO:-0400
TZNAME:America/Kentucky/Louisville EDT
END:DAYLIGHT
BEGIN:DAYLIGHT
DTSTART:20170312T030000
RDATE:20171105T010000
TZOFFSETFROM:-0500
TZOFFSETTO:-0400
TZNAME:America/Kentucky/Louisville EDT
END:DAYLIGHT
BEGIN:DAYLIGHT
DTSTART:20180311T030000
RDATE:20181104T010000
TZOFFSETFROM:-0500
TZOFFSETTO:-0400
TZNAME:America/Kentucky/Louisville EDT
END:DAYLIGHT
BEGIN:DAYLIGHT
DTSTART:20190310T030000
RDATE:20191103T010000
TZOFFSETFROM:-0500
TZOFFSETTO:-0400
TZNAME:America/Kentucky/Louisville EDT
END:DAYLIGHT
BEGIN:DAYLIGHT
DTSTART:20200308T030000
RDATE:20201101T010000
TZOFFSETFROM:-0500
TZOFFSETTO:-0400
TZNAME:America/Kentucky/Louisville EDT
END:DAYLIGHT
END:VTIMEZONE
BEGIN:VEVENT
UID:o0f6515rto2jbla8n4p41r7e78@google.com
CATEGORIES:Ongoing Community/Organizational Programming
CREATED:20150717T021821
SUMMARY:West African Dance Class
LOCATION:Sound Community, 1228 E. Breckenridge St., Louisville, KY 40204
DESCRIPTION;ENCODING=QUOTED-PRINTABLE:West African dance class with Hamidou Koivogui, veteran of the national dan
 ce companies of Guinea, and experienced teacher in the U.S. First class fre
 e. For more information contact Gregory Acker: <span id="cloak82b0cba0545bf
 92a140b31e501daf767">This email address is being protected from spambots. Y
 ou need JavaScript enabled to view it.</span><script type='text/javascript'
 >
				document.getElementById('cloak82b0cba0545bf92a140b31e501daf767').inne
 rHTML = '';
				var prefix = '&#109;a' + 'i&#108;' + '&#116;o';
				var pat
 h = 'hr' + 'ef' + '=';
				var addy82b0cba0545bf92a140b31e501daf767 = 'GAck
 &#101;r' + '&#64;';
				addy82b0cba0545bf92a140b31e501daf767 = addy82b0cba0
 545bf92a140b31e501daf767 + '&#97;&#111;l' + '&#46;' + 'c&#111;m';
				var a
 ddy_text82b0cba0545bf92a140b31e501daf767 = 'GAck&#101;r' + '&#64;' + '&#97;
 &#111;l' + '&#46;' + 'c&#111;m';document.getElementById('cloak82b0cba0545bf
 92a140b31e501daf767').innerHTML += '<a ' + path + '\'' + prefix + ':' + add
 y82b0cba0545bf92a140b31e501daf767 + '\'>'+addy_text82b0cba0545bf92a140b31e5
 01daf767+'<\/a>';
		</script> or Liz Virgo: <span id="cloak747f7ebf5747fdb7
 6cce7b608396c923">This email address is being protected from spambots. You 
 need JavaScript enabled to view it.</span><script type='text/javascript'>
	
 			document.getElementById('cloak747f7ebf5747fdb76cce7b608396c923').innerHT
 ML = '';
				var prefix = '&#109;a' + 'i&#108;' + '&#116;o';
				var path =
  'hr' + 'ef' + '=';
				var addy747f7ebf5747fdb76cce7b608396c923 = '&#101;l
 v&#105;rg01' + '&#64;';
				addy747f7ebf5747fdb76cce7b608396c923 = addy747f
 7ebf5747fdb76cce7b608396c923 + 'c&#97;rdm&#97;&#105;l' + '&#46;' + 'l&#111;
 &#117;&#105;sv&#105;ll&#101;' + '&#46;' + '&#101;d&#117;';
				var addy_tex
 t747f7ebf5747fdb76cce7b608396c923 = '&#101;lv&#105;rg01' + '&#64;' + 'c&#97
 ;rdm&#97;&#105;l' + '&#46;' + 'l&#111;&#117;&#105;sv&#105;ll&#101;' + '&#46
 ;' + '&#101;d&#117;';document.getElementById('cloak747f7ebf5747fdb76cce7b60
 8396c923').innerHTML += '<a ' + path + '\'' + prefix + ':' + addy747f7ebf57
 47fdb76cce7b608396c923 + '\'>'+addy_text747f7ebf5747fdb76cce7b608396c923+'<
 \/a>';
		</script>. 
DTSTAMP:20260419T101740Z
DTSTART;TZID=America/Kentucky/Louisville:20150115T170000
DTEND;TZID=America/Kentucky/Louisville:20150115T180000
SEQUENCE:1
TRANSP:OPAQUE
END:VEVENT
END:VCALENDAR