BEGIN:VCALENDAR
VERSION:2.0
PRODID:-//jEvents 2.0 for Joomla//EN
CALSCALE:GREGORIAN
METHOD:PUBLISH
BEGIN:VTIMEZONE
TZID:America/Kentucky/Louisville
BEGIN:STANDARD
DTSTART:20140209T170000
RDATE:20140309T030000
TZOFFSETFROM:-0400
TZOFFSETTO:-0500
TZNAME:America/Kentucky/Louisville EST
END:STANDARD
BEGIN:STANDARD
DTSTART:20141102T010000
RDATE:20150308T030000
TZOFFSETFROM:-0400
TZOFFSETTO:-0500
TZNAME:America/Kentucky/Louisville EST
END:STANDARD
BEGIN:STANDARD
DTSTART:20151101T010000
RDATE:20160313T030000
TZOFFSETFROM:-0400
TZOFFSETTO:-0500
TZNAME:America/Kentucky/Louisville EST
END:STANDARD
BEGIN:STANDARD
DTSTART:20161106T010000
RDATE:20170312T030000
TZOFFSETFROM:-0400
TZOFFSETTO:-0500
TZNAME:America/Kentucky/Louisville EST
END:STANDARD
BEGIN:STANDARD
DTSTART:20171105T010000
RDATE:20180311T030000
TZOFFSETFROM:-0400
TZOFFSETTO:-0500
TZNAME:America/Kentucky/Louisville EST
END:STANDARD
BEGIN:STANDARD
DTSTART:20181104T010000
RDATE:20190310T030000
TZOFFSETFROM:-0400
TZOFFSETTO:-0500
TZNAME:America/Kentucky/Louisville EST
END:STANDARD
BEGIN:STANDARD
DTSTART:20191103T010000
RDATE:20200308T030000
TZOFFSETFROM:-0400
TZOFFSETTO:-0500
TZNAME:America/Kentucky/Louisville EST
END:STANDARD
BEGIN:STANDARD
DTSTART:20201101T010000
RDATE:20210314T030000
TZOFFSETFROM:-0400
TZOFFSETTO:-0500
TZNAME:America/Kentucky/Louisville EST
END:STANDARD
BEGIN:DAYLIGHT
DTSTART:20140309T030000
RDATE:20141102T010000
TZOFFSETFROM:-0500
TZOFFSETTO:-0400
TZNAME:America/Kentucky/Louisville EDT
END:DAYLIGHT
BEGIN:DAYLIGHT
DTSTART:20150308T030000
RDATE:20151101T010000
TZOFFSETFROM:-0500
TZOFFSETTO:-0400
TZNAME:America/Kentucky/Louisville EDT
END:DAYLIGHT
BEGIN:DAYLIGHT
DTSTART:20160313T030000
RDATE:20161106T010000
TZOFFSETFROM:-0500
TZOFFSETTO:-0400
TZNAME:America/Kentucky/Louisville EDT
END:DAYLIGHT
BEGIN:DAYLIGHT
DTSTART:20170312T030000
RDATE:20171105T010000
TZOFFSETFROM:-0500
TZOFFSETTO:-0400
TZNAME:America/Kentucky/Louisville EDT
END:DAYLIGHT
BEGIN:DAYLIGHT
DTSTART:20180311T030000
RDATE:20181104T010000
TZOFFSETFROM:-0500
TZOFFSETTO:-0400
TZNAME:America/Kentucky/Louisville EDT
END:DAYLIGHT
BEGIN:DAYLIGHT
DTSTART:20190310T030000
RDATE:20191103T010000
TZOFFSETFROM:-0500
TZOFFSETTO:-0400
TZNAME:America/Kentucky/Louisville EDT
END:DAYLIGHT
BEGIN:DAYLIGHT
DTSTART:20200308T030000
RDATE:20201101T010000
TZOFFSETFROM:-0500
TZOFFSETTO:-0400
TZNAME:America/Kentucky/Louisville EDT
END:DAYLIGHT
END:VTIMEZONE
BEGIN:VEVENT
UID:1e6sgf8dl39mhpr29h142rulvs@google.com
CATEGORIES:Ongoing Community/Organizational Programming
CREATED:20150717T021821
SUMMARY:West African Drum Class
LOCATION:Sound Community, 1228 E. Breckenridge St., Louisville, KY 40204 
DESCRIPTION;ENCODING=QUOTED-PRINTABLE:West African drum class with Hamidou Koivogui, veteran of the national danc
 e companies of Guinea, and experienced teacher in the U.S. First class free
 . For more information contact Gregory Acker: <span id="cloak1f18bf1463129d
 0080ce78652f368db7">This email address is being protected from spambots. Yo
 u need JavaScript enabled to view it.</span><script type='text/javascript'>
 
				document.getElementById('cloak1f18bf1463129d0080ce78652f368db7').inner
 HTML = '';
				var prefix = '&#109;a' + 'i&#108;' + '&#116;o';
				var path
  = 'hr' + 'ef' + '=';
				var addy1f18bf1463129d0080ce78652f368db7 = 'GAck&
 #101;r' + '&#64;';
				addy1f18bf1463129d0080ce78652f368db7 = addy1f18bf146
 3129d0080ce78652f368db7 + '&#97;&#111;l' + '&#46;' + 'c&#111;m';
				var ad
 dy_text1f18bf1463129d0080ce78652f368db7 = 'GAck&#101;r' + '&#64;' + '&#97;&
 #111;l' + '&#46;' + 'c&#111;m';document.getElementById('cloak1f18bf1463129d
 0080ce78652f368db7').innerHTML += '<a ' + path + '\'' + prefix + ':' + addy
 1f18bf1463129d0080ce78652f368db7 + '\'>'+addy_text1f18bf1463129d0080ce78652
 f368db7+'<\/a>';
		</script> or Liz Virgo: <span id="cloakbf12957bad88283e9
 0d912faaade6d2a">This email address is being protected from spambots. You n
 eed JavaScript enabled to view it.</span><script type='text/javascript'>
		
 		document.getElementById('cloakbf12957bad88283e90d912faaade6d2a').innerHTM
 L = '';
				var prefix = '&#109;a' + 'i&#108;' + '&#116;o';
				var path = 
 'hr' + 'ef' + '=';
				var addybf12957bad88283e90d912faaade6d2a = '&#101;lv
 &#105;rg01' + '&#64;';
				addybf12957bad88283e90d912faaade6d2a = addybf129
 57bad88283e90d912faaade6d2a + 'c&#97;rdm&#97;&#105;l' + '&#46;' + 'l&#111;&
 #117;&#105;sv&#105;ll&#101;' + '&#46;' + '&#101;d&#117;';
				var addy_text
 bf12957bad88283e90d912faaade6d2a = '&#101;lv&#105;rg01' + '&#64;' + 'c&#97;
 rdm&#97;&#105;l' + '&#46;' + 'l&#111;&#117;&#105;sv&#105;ll&#101;' + '&#46;
 ' + '&#101;d&#117;';document.getElementById('cloakbf12957bad88283e90d912faa
 ade6d2a').innerHTML += '<a ' + path + '\'' + prefix + ':' + addybf12957bad8
 8283e90d912faaade6d2a + '\'>'+addy_textbf12957bad88283e90d912faaade6d2a+'<\
 /a>';
		</script>. 
DTSTAMP:20260423T045743Z
DTSTART;TZID=America/Kentucky/Louisville:20150210T170000
DTEND;TZID=America/Kentucky/Louisville:20150210T180000
SEQUENCE:0
TRANSP:OPAQUE
END:VEVENT
END:VCALENDAR