BEGIN:VCALENDAR
VERSION:2.0
PRODID:-//jEvents 2.0 for Joomla//EN
CALSCALE:GREGORIAN
METHOD:PUBLISH
BEGIN:VTIMEZONE
TZID:America/Kentucky/Louisville
BEGIN:STANDARD
DTSTART:20140112T180000
RDATE:20140309T030000
TZOFFSETFROM:-0400
TZOFFSETTO:-0500
TZNAME:America/Kentucky/Louisville EST
END:STANDARD
BEGIN:STANDARD
DTSTART:20141102T010000
RDATE:20150308T030000
TZOFFSETFROM:-0400
TZOFFSETTO:-0500
TZNAME:America/Kentucky/Louisville EST
END:STANDARD
BEGIN:STANDARD
DTSTART:20151101T010000
RDATE:20160313T030000
TZOFFSETFROM:-0400
TZOFFSETTO:-0500
TZNAME:America/Kentucky/Louisville EST
END:STANDARD
BEGIN:STANDARD
DTSTART:20161106T010000
RDATE:20170312T030000
TZOFFSETFROM:-0400
TZOFFSETTO:-0500
TZNAME:America/Kentucky/Louisville EST
END:STANDARD
BEGIN:STANDARD
DTSTART:20171105T010000
RDATE:20180311T030000
TZOFFSETFROM:-0400
TZOFFSETTO:-0500
TZNAME:America/Kentucky/Louisville EST
END:STANDARD
BEGIN:STANDARD
DTSTART:20181104T010000
RDATE:20190310T030000
TZOFFSETFROM:-0400
TZOFFSETTO:-0500
TZNAME:America/Kentucky/Louisville EST
END:STANDARD
BEGIN:STANDARD
DTSTART:20191103T010000
RDATE:20200308T030000
TZOFFSETFROM:-0400
TZOFFSETTO:-0500
TZNAME:America/Kentucky/Louisville EST
END:STANDARD
BEGIN:STANDARD
DTSTART:20201101T010000
RDATE:20210314T030000
TZOFFSETFROM:-0400
TZOFFSETTO:-0500
TZNAME:America/Kentucky/Louisville EST
END:STANDARD
BEGIN:DAYLIGHT
DTSTART:20140309T030000
RDATE:20141102T010000
TZOFFSETFROM:-0500
TZOFFSETTO:-0400
TZNAME:America/Kentucky/Louisville EDT
END:DAYLIGHT
BEGIN:DAYLIGHT
DTSTART:20150308T030000
RDATE:20151101T010000
TZOFFSETFROM:-0500
TZOFFSETTO:-0400
TZNAME:America/Kentucky/Louisville EDT
END:DAYLIGHT
BEGIN:DAYLIGHT
DTSTART:20160313T030000
RDATE:20161106T010000
TZOFFSETFROM:-0500
TZOFFSETTO:-0400
TZNAME:America/Kentucky/Louisville EDT
END:DAYLIGHT
BEGIN:DAYLIGHT
DTSTART:20170312T030000
RDATE:20171105T010000
TZOFFSETFROM:-0500
TZOFFSETTO:-0400
TZNAME:America/Kentucky/Louisville EDT
END:DAYLIGHT
BEGIN:DAYLIGHT
DTSTART:20180311T030000
RDATE:20181104T010000
TZOFFSETFROM:-0500
TZOFFSETTO:-0400
TZNAME:America/Kentucky/Louisville EDT
END:DAYLIGHT
BEGIN:DAYLIGHT
DTSTART:20190310T030000
RDATE:20191103T010000
TZOFFSETFROM:-0500
TZOFFSETTO:-0400
TZNAME:America/Kentucky/Louisville EDT
END:DAYLIGHT
BEGIN:DAYLIGHT
DTSTART:20200308T030000
RDATE:20201101T010000
TZOFFSETFROM:-0500
TZOFFSETTO:-0400
TZNAME:America/Kentucky/Louisville EDT
END:DAYLIGHT
END:VTIMEZONE
BEGIN:VEVENT
UID:o4fjs1ko7adoeo8t2l35o8t1ac@google.com
CATEGORIES:Ongoing Community/Organizational Programming
CREATED:20150717T021821
SUMMARY:West African Dance Class
LOCATION:Sound Community, 1228 E. Breckenridge St., Louisville, KY 40204
DESCRIPTION;ENCODING=QUOTED-PRINTABLE:West African dance class with Hamidou Koivogui, veteran of the national dan
 ce companies of Guinea, and experienced teacher in the U.S. First class fre
 e. For more information contact Gregory Acker: <span id="cloak6d41c04ebf0c0
 87c80db84604e9b96f5">This email address is being protected from spambots. Y
 ou need JavaScript enabled to view it.</span><script type='text/javascript'
 >
				document.getElementById('cloak6d41c04ebf0c087c80db84604e9b96f5').inne
 rHTML = '';
				var prefix = '&#109;a' + 'i&#108;' + '&#116;o';
				var pat
 h = 'hr' + 'ef' + '=';
				var addy6d41c04ebf0c087c80db84604e9b96f5 = 'GAck
 &#101;r' + '&#64;';
				addy6d41c04ebf0c087c80db84604e9b96f5 = addy6d41c04e
 bf0c087c80db84604e9b96f5 + '&#97;&#111;l' + '&#46;' + 'c&#111;m';
				var a
 ddy_text6d41c04ebf0c087c80db84604e9b96f5 = 'GAck&#101;r' + '&#64;' + '&#97;
 &#111;l' + '&#46;' + 'c&#111;m';document.getElementById('cloak6d41c04ebf0c0
 87c80db84604e9b96f5').innerHTML += '<a ' + path + '\'' + prefix + ':' + add
 y6d41c04ebf0c087c80db84604e9b96f5 + '\'>'+addy_text6d41c04ebf0c087c80db8460
 4e9b96f5+'<\/a>';
		</script> or Liz Virgo: <span id="cloak02425e2ad0940fdd
 63af8e3e523a7993">This email address is being protected from spambots. You 
 need JavaScript enabled to view it.</span><script type='text/javascript'>
	
 			document.getElementById('cloak02425e2ad0940fdd63af8e3e523a7993').innerHT
 ML = '';
				var prefix = '&#109;a' + 'i&#108;' + '&#116;o';
				var path =
  'hr' + 'ef' + '=';
				var addy02425e2ad0940fdd63af8e3e523a7993 = '&#101;l
 v&#105;rg01' + '&#64;';
				addy02425e2ad0940fdd63af8e3e523a7993 = addy0242
 5e2ad0940fdd63af8e3e523a7993 + 'c&#97;rdm&#97;&#105;l' + '&#46;' + 'l&#111;
 &#117;&#105;sv&#105;ll&#101;' + '&#46;' + '&#101;d&#117;';
				var addy_tex
 t02425e2ad0940fdd63af8e3e523a7993 = '&#101;lv&#105;rg01' + '&#64;' + 'c&#97
 ;rdm&#97;&#105;l' + '&#46;' + 'l&#111;&#117;&#105;sv&#105;ll&#101;' + '&#46
 ;' + '&#101;d&#117;';document.getElementById('cloak02425e2ad0940fdd63af8e3e
 523a7993').innerHTML += '<a ' + path + '\'' + prefix + ':' + addy02425e2ad0
 940fdd63af8e3e523a7993 + '\'>'+addy_text02425e2ad0940fdd63af8e3e523a7993+'<
 \/a>';
		</script>. 
DTSTAMP:20260421T113111Z
DTSTART;TZID=America/Kentucky/Louisville:20150113T180000
DTEND;TZID=America/Kentucky/Louisville:20150113T190000
SEQUENCE:0
TRANSP:OPAQUE
END:VEVENT
END:VCALENDAR