BEGIN:VCALENDAR
VERSION:2.0
PRODID:-//jEvents 2.0 for Joomla//EN
CALSCALE:GREGORIAN
METHOD:PUBLISH
BEGIN:VTIMEZONE
TZID:America/Kentucky/Louisville
BEGIN:STANDARD
DTSTART:20140126T180000
RDATE:20140309T030000
TZOFFSETFROM:-0400
TZOFFSETTO:-0500
TZNAME:America/Kentucky/Louisville EST
END:STANDARD
BEGIN:STANDARD
DTSTART:20141102T010000
RDATE:20150308T030000
TZOFFSETFROM:-0400
TZOFFSETTO:-0500
TZNAME:America/Kentucky/Louisville EST
END:STANDARD
BEGIN:STANDARD
DTSTART:20151101T010000
RDATE:20160313T030000
TZOFFSETFROM:-0400
TZOFFSETTO:-0500
TZNAME:America/Kentucky/Louisville EST
END:STANDARD
BEGIN:STANDARD
DTSTART:20161106T010000
RDATE:20170312T030000
TZOFFSETFROM:-0400
TZOFFSETTO:-0500
TZNAME:America/Kentucky/Louisville EST
END:STANDARD
BEGIN:STANDARD
DTSTART:20171105T010000
RDATE:20180311T030000
TZOFFSETFROM:-0400
TZOFFSETTO:-0500
TZNAME:America/Kentucky/Louisville EST
END:STANDARD
BEGIN:STANDARD
DTSTART:20181104T010000
RDATE:20190310T030000
TZOFFSETFROM:-0400
TZOFFSETTO:-0500
TZNAME:America/Kentucky/Louisville EST
END:STANDARD
BEGIN:STANDARD
DTSTART:20191103T010000
RDATE:20200308T030000
TZOFFSETFROM:-0400
TZOFFSETTO:-0500
TZNAME:America/Kentucky/Louisville EST
END:STANDARD
BEGIN:STANDARD
DTSTART:20201101T010000
RDATE:20210314T030000
TZOFFSETFROM:-0400
TZOFFSETTO:-0500
TZNAME:America/Kentucky/Louisville EST
END:STANDARD
BEGIN:DAYLIGHT
DTSTART:20140309T030000
RDATE:20141102T010000
TZOFFSETFROM:-0500
TZOFFSETTO:-0400
TZNAME:America/Kentucky/Louisville EDT
END:DAYLIGHT
BEGIN:DAYLIGHT
DTSTART:20150308T030000
RDATE:20151101T010000
TZOFFSETFROM:-0500
TZOFFSETTO:-0400
TZNAME:America/Kentucky/Louisville EDT
END:DAYLIGHT
BEGIN:DAYLIGHT
DTSTART:20160313T030000
RDATE:20161106T010000
TZOFFSETFROM:-0500
TZOFFSETTO:-0400
TZNAME:America/Kentucky/Louisville EDT
END:DAYLIGHT
BEGIN:DAYLIGHT
DTSTART:20170312T030000
RDATE:20171105T010000
TZOFFSETFROM:-0500
TZOFFSETTO:-0400
TZNAME:America/Kentucky/Louisville EDT
END:DAYLIGHT
BEGIN:DAYLIGHT
DTSTART:20180311T030000
RDATE:20181104T010000
TZOFFSETFROM:-0500
TZOFFSETTO:-0400
TZNAME:America/Kentucky/Louisville EDT
END:DAYLIGHT
BEGIN:DAYLIGHT
DTSTART:20190310T030000
RDATE:20191103T010000
TZOFFSETFROM:-0500
TZOFFSETTO:-0400
TZNAME:America/Kentucky/Louisville EDT
END:DAYLIGHT
BEGIN:DAYLIGHT
DTSTART:20200308T030000
RDATE:20201101T010000
TZOFFSETFROM:-0500
TZOFFSETTO:-0400
TZNAME:America/Kentucky/Louisville EDT
END:DAYLIGHT
END:VTIMEZONE
BEGIN:VEVENT
UID:o4fjs1ko7adoeo8t2l35o8t1ac@google.com
CATEGORIES:Ongoing Community/Organizational Programming
CREATED:20150717T021821
SUMMARY:West African Dance Class
LOCATION:Sound Community, 1228 E. Breckenridge St., Louisville, KY 40204
DESCRIPTION;ENCODING=QUOTED-PRINTABLE:West African dance class with Hamidou Koivogui, veteran of the national dan
 ce companies of Guinea, and experienced teacher in the U.S. First class fre
 e. For more information contact Gregory Acker: <span id="cloak50068837c1271
 efabe3800c7d65668ce">This email address is being protected from spambots. Y
 ou need JavaScript enabled to view it.</span><script type='text/javascript'
 >
				document.getElementById('cloak50068837c1271efabe3800c7d65668ce').inne
 rHTML = '';
				var prefix = '&#109;a' + 'i&#108;' + '&#116;o';
				var pat
 h = 'hr' + 'ef' + '=';
				var addy50068837c1271efabe3800c7d65668ce = 'GAck
 &#101;r' + '&#64;';
				addy50068837c1271efabe3800c7d65668ce = addy50068837
 c1271efabe3800c7d65668ce + '&#97;&#111;l' + '&#46;' + 'c&#111;m';
				var a
 ddy_text50068837c1271efabe3800c7d65668ce = 'GAck&#101;r' + '&#64;' + '&#97;
 &#111;l' + '&#46;' + 'c&#111;m';document.getElementById('cloak50068837c1271
 efabe3800c7d65668ce').innerHTML += '<a ' + path + '\'' + prefix + ':' + add
 y50068837c1271efabe3800c7d65668ce + '\'>'+addy_text50068837c1271efabe3800c7
 d65668ce+'<\/a>';
		</script> or Liz Virgo: <span id="cloakb8890c532914c872
 67eca6f95e7a3d3c">This email address is being protected from spambots. You 
 need JavaScript enabled to view it.</span><script type='text/javascript'>
	
 			document.getElementById('cloakb8890c532914c87267eca6f95e7a3d3c').innerHT
 ML = '';
				var prefix = '&#109;a' + 'i&#108;' + '&#116;o';
				var path =
  'hr' + 'ef' + '=';
				var addyb8890c532914c87267eca6f95e7a3d3c = '&#101;l
 v&#105;rg01' + '&#64;';
				addyb8890c532914c87267eca6f95e7a3d3c = addyb889
 0c532914c87267eca6f95e7a3d3c + 'c&#97;rdm&#97;&#105;l' + '&#46;' + 'l&#111;
 &#117;&#105;sv&#105;ll&#101;' + '&#46;' + '&#101;d&#117;';
				var addy_tex
 tb8890c532914c87267eca6f95e7a3d3c = '&#101;lv&#105;rg01' + '&#64;' + 'c&#97
 ;rdm&#97;&#105;l' + '&#46;' + 'l&#111;&#117;&#105;sv&#105;ll&#101;' + '&#46
 ;' + '&#101;d&#117;';document.getElementById('cloakb8890c532914c87267eca6f9
 5e7a3d3c').innerHTML += '<a ' + path + '\'' + prefix + ':' + addyb8890c5329
 14c87267eca6f95e7a3d3c + '\'>'+addy_textb8890c532914c87267eca6f95e7a3d3c+'<
 \/a>';
		</script>. 
DTSTAMP:20260421T082048Z
DTSTART;TZID=America/Kentucky/Louisville:20150127T180000
DTEND;TZID=America/Kentucky/Louisville:20150127T190000
SEQUENCE:0
TRANSP:OPAQUE
END:VEVENT
END:VCALENDAR