BEGIN:VCALENDAR
VERSION:2.0
PRODID:-//jEvents 2.0 for Joomla//EN
CALSCALE:GREGORIAN
METHOD:PUBLISH
BEGIN:VTIMEZONE
TZID:America/Kentucky/Louisville
BEGIN:STANDARD
DTSTART:20141102T010000
RDATE:20150308T030000
TZOFFSETFROM:-0400
TZOFFSETTO:-0500
TZNAME:America/Kentucky/Louisville EST
END:STANDARD
BEGIN:STANDARD
DTSTART:20151101T010000
RDATE:20160313T030000
TZOFFSETFROM:-0400
TZOFFSETTO:-0500
TZNAME:America/Kentucky/Louisville EST
END:STANDARD
BEGIN:STANDARD
DTSTART:20161106T010000
RDATE:20170312T030000
TZOFFSETFROM:-0400
TZOFFSETTO:-0500
TZNAME:America/Kentucky/Louisville EST
END:STANDARD
BEGIN:STANDARD
DTSTART:20171105T010000
RDATE:20180311T030000
TZOFFSETFROM:-0400
TZOFFSETTO:-0500
TZNAME:America/Kentucky/Louisville EST
END:STANDARD
BEGIN:STANDARD
DTSTART:20181104T010000
RDATE:20190310T030000
TZOFFSETFROM:-0400
TZOFFSETTO:-0500
TZNAME:America/Kentucky/Louisville EST
END:STANDARD
BEGIN:STANDARD
DTSTART:20191103T010000
RDATE:20200308T030000
TZOFFSETFROM:-0400
TZOFFSETTO:-0500
TZNAME:America/Kentucky/Louisville EST
END:STANDARD
BEGIN:STANDARD
DTSTART:20201101T010000
RDATE:20210314T030000
TZOFFSETFROM:-0400
TZOFFSETTO:-0500
TZNAME:America/Kentucky/Louisville EST
END:STANDARD
BEGIN:DAYLIGHT
DTSTART:20141006T163000
RDATE:20141102T010000
TZOFFSETFROM:-0500
TZOFFSETTO:-0400
TZNAME:America/Kentucky/Louisville EDT
END:DAYLIGHT
BEGIN:DAYLIGHT
DTSTART:20150308T030000
RDATE:20151101T010000
TZOFFSETFROM:-0500
TZOFFSETTO:-0400
TZNAME:America/Kentucky/Louisville EDT
END:DAYLIGHT
BEGIN:DAYLIGHT
DTSTART:20160313T030000
RDATE:20161106T010000
TZOFFSETFROM:-0500
TZOFFSETTO:-0400
TZNAME:America/Kentucky/Louisville EDT
END:DAYLIGHT
BEGIN:DAYLIGHT
DTSTART:20170312T030000
RDATE:20171105T010000
TZOFFSETFROM:-0500
TZOFFSETTO:-0400
TZNAME:America/Kentucky/Louisville EDT
END:DAYLIGHT
BEGIN:DAYLIGHT
DTSTART:20180311T030000
RDATE:20181104T010000
TZOFFSETFROM:-0500
TZOFFSETTO:-0400
TZNAME:America/Kentucky/Louisville EDT
END:DAYLIGHT
BEGIN:DAYLIGHT
DTSTART:20190310T030000
RDATE:20191103T010000
TZOFFSETFROM:-0500
TZOFFSETTO:-0400
TZNAME:America/Kentucky/Louisville EDT
END:DAYLIGHT
BEGIN:DAYLIGHT
DTSTART:20200308T030000
RDATE:20201101T010000
TZOFFSETFROM:-0500
TZOFFSETTO:-0400
TZNAME:America/Kentucky/Louisville EDT
END:DAYLIGHT
END:VTIMEZONE
BEGIN:VEVENT
UID:47d92714f41d20f9008e1f447266d103
CATEGORIES:Ongoing Community/Organizational Programming
CREATED:20141201T183812
SUMMARY:Free Tutoring for 6th-12th graders, St. Stephen 
LOCATION:St. Stephen Family Life Center, 1508 W. Kentucky Street
DESCRIPTION;ENCODING=QUOTED-PRINTABLE:St. Stephen's Free Tutoring Program\n\nFor youth from 6th to 12th grade and
  is from 4:30 pm to 7 pm. Youth can attend at anytime during those hours. I
 f you're interested, stop by the St. Stephen Family Life Center. Ask for La
 ngston or if you'd like more information, feel free to contact me at This e
 mail address is being protected from spambots. You need JavaScript enabled 
 to view it.
				document.getElementById('cloaka8ea75501347a63fb87971256f43a
 3d4').innerHTML = '';
				var prefix = '&#109;a' + 'i&#108;' + '&#116;o';
	
 			var path = 'hr' + 'ef' + '=';
				var addya8ea75501347a63fb87971256f43a3
 d4 = 'lg&#97;&#105;th&#101;r' + '&#64;';
				addya8ea75501347a63fb87971256f
 43a3d4 = addya8ea75501347a63fb87971256f43a3d4 + 'sscl&#105;v&#101;' + '&#46
 ;' + '&#111;rg';
				var addy_texta8ea75501347a63fb87971256f43a3d4 = 'lg&#9
 7;&#105;th&#101;r' + '&#64;' + 'sscl&#105;v&#101;' + '&#46;' + '&#111;rg';d
 ocument.getElementById('cloaka8ea75501347a63fb87971256f43a3d4').innerHTML +
 = ''+addy_texta8ea75501347a63fb87971256f43a3d4+'';
		\n
CONTACT:This email address is being protected from spambots. You need JavaScript enabled to view it.
				document.getElementById('cloak374db738b1a06492070069c05405d8e2').innerHTML = '';
				var prefix = '&#109;a' + 'i&#108;' + '&#116;o';
				var path = 'hr' + 'ef' + '=';
				var addy374db738b1a06492070069c05405d8e2 = 'lg&#97;&#105;th&#101;r' + '&#64;';
				addy374db738b1a06492070069c05405d8e2 = addy374db738b1a06492070069c05405d8e2 + 'sscl&#105;v&#101;' + '&#46;' + '&#111;rg';
				var addy_text374db738b1a06492070069c05405d8e2 = 'lg&#97;&#105;th&#101;r' + '&#64;' + 'sscl&#105;v&#101;' + '&#46;' + '&#111;rg';document.getElementById('cloak374db738b1a06492070069c05405d8e2').innerHTML += ''+addy_text374db738b1a06492070069c05405d8e2+'';
		
DTSTAMP:20260419T204505Z
DTSTART;TZID=America/Kentucky/Louisville:20151007T163000
DTEND;TZID=America/Kentucky/Louisville:20151007T190000
SEQUENCE:0
TRANSP:OPAQUE
END:VEVENT
END:VCALENDAR