BEGIN:VCALENDAR
VERSION:2.0
PRODID:-//jEvents 2.0 for Joomla//EN
CALSCALE:GREGORIAN
METHOD:PUBLISH
BEGIN:VTIMEZONE
TZID:America/Kentucky/Louisville
BEGIN:STANDARD
DTSTART:20151101T010000
RDATE:20160313T030000
TZOFFSETFROM:-0400
TZOFFSETTO:-0500
TZNAME:America/Kentucky/Louisville EST
END:STANDARD
BEGIN:STANDARD
DTSTART:20161106T010000
RDATE:20170312T030000
TZOFFSETFROM:-0400
TZOFFSETTO:-0500
TZNAME:America/Kentucky/Louisville EST
END:STANDARD
BEGIN:STANDARD
DTSTART:20171105T010000
RDATE:20180311T030000
TZOFFSETFROM:-0400
TZOFFSETTO:-0500
TZNAME:America/Kentucky/Louisville EST
END:STANDARD
BEGIN:STANDARD
DTSTART:20181104T010000
RDATE:20190310T030000
TZOFFSETFROM:-0400
TZOFFSETTO:-0500
TZNAME:America/Kentucky/Louisville EST
END:STANDARD
BEGIN:STANDARD
DTSTART:20191103T010000
RDATE:20200308T030000
TZOFFSETFROM:-0400
TZOFFSETTO:-0500
TZNAME:America/Kentucky/Louisville EST
END:STANDARD
BEGIN:STANDARD
DTSTART:20201101T010000
RDATE:20210314T030000
TZOFFSETFROM:-0400
TZOFFSETTO:-0500
TZNAME:America/Kentucky/Louisville EST
END:STANDARD
BEGIN:DAYLIGHT
DTSTART:20150315T180000
RDATE:20151101T010000
TZOFFSETFROM:-0500
TZOFFSETTO:-0400
TZNAME:America/Kentucky/Louisville EDT
END:DAYLIGHT
BEGIN:DAYLIGHT
DTSTART:20160313T030000
RDATE:20161106T010000
TZOFFSETFROM:-0500
TZOFFSETTO:-0400
TZNAME:America/Kentucky/Louisville EDT
END:DAYLIGHT
BEGIN:DAYLIGHT
DTSTART:20170312T030000
RDATE:20171105T010000
TZOFFSETFROM:-0500
TZOFFSETTO:-0400
TZNAME:America/Kentucky/Louisville EDT
END:DAYLIGHT
BEGIN:DAYLIGHT
DTSTART:20180311T030000
RDATE:20181104T010000
TZOFFSETFROM:-0500
TZOFFSETTO:-0400
TZNAME:America/Kentucky/Louisville EDT
END:DAYLIGHT
BEGIN:DAYLIGHT
DTSTART:20190310T030000
RDATE:20191103T010000
TZOFFSETFROM:-0500
TZOFFSETTO:-0400
TZNAME:America/Kentucky/Louisville EDT
END:DAYLIGHT
BEGIN:DAYLIGHT
DTSTART:20200308T030000
RDATE:20201101T010000
TZOFFSETFROM:-0500
TZOFFSETTO:-0400
TZNAME:America/Kentucky/Louisville EDT
END:DAYLIGHT
END:VTIMEZONE
BEGIN:VEVENT
UID:327cb38c3c17bce2136f8fc91c0d2dd0
CATEGORIES:Workshop
CREATED:20160312T201129
SUMMARY:Business Builder Course at Community Ventures
LOCATION:811 S. 2nd Street
DESCRIPTION;ENCODING=QUOTED-PRINTABLE:<h2>Business Builder Course at Community Ventures - 811 S. 2nd Street</h2><
 p>Tuesdays and Thursdays in March 2016 from 6:00 to 8:00 pm</p><p>Tuesday, 
 March 15th: Learn the language of business financial statements including I
 ncome Statements; Balance Sheets; Cash Flow and Source and Use Statements.<
 /p><p>Thursday, March 17th: Learn from the lenders what it takes to get fin
 ancing to start or grow your business.</p><p>To register please contact Mar
 garet Prince at (502) 566-6076 or <span id="cloak65d90198e9f2a25ca05a67b134
 97bea2">This email address is being protected from spambots. You need JavaS
 cript enabled to view it.</span><script type='text/javascript'>
				documen
 t.getElementById('cloak65d90198e9f2a25ca05a67b13497bea2').innerHTML = '';
	
 			var prefix = '&#109;a' + 'i&#108;' + '&#116;o';
				var path = 'hr' + 'e
 f' + '=';
				var addy65d90198e9f2a25ca05a67b13497bea2 = 'mpr&#105;nc&#101;
 ' + '&#64;';
				addy65d90198e9f2a25ca05a67b13497bea2 = addy65d90198e9f2a25
 ca05a67b13497bea2 + 'cvky' + '&#46;' + '&#111;rg';
				var addy_text65d9019
 8e9f2a25ca05a67b13497bea2 = 'mpr&#105;nc&#101;' + '&#64;' + 'cvky' + '&#46;
 ' + '&#111;rg';document.getElementById('cloak65d90198e9f2a25ca05a67b13497be
 a2').innerHTML += '<a ' + path + '\'' + prefix + ':' + addy65d90198e9f2a25c
 a05a67b13497bea2 + '\'>'+addy_text65d90198e9f2a25ca05a67b13497bea2+'<\/a>';
 
		</script></p>
CONTACT:Margaret Prince at (502) 566-6076 or This email address is being protected from spambots. You need JavaScript enabled to view it.
				document.getElementById('cloakf5efdfdbd73cdc453b55677e78766198').innerHTML = '';
				var prefix = '&#109;a' + 'i&#108;' + '&#116;o';
				var path = 'hr' + 'ef' + '=';
				var addyf5efdfdbd73cdc453b55677e78766198 = 'mpr&#105;nc&#101;' + '&#64;';
				addyf5efdfdbd73cdc453b55677e78766198 = addyf5efdfdbd73cdc453b55677e78766198 + 'cvky' + '&#46;' + '&#111;rg';
				var addy_textf5efdfdbd73cdc453b55677e78766198 = 'mpr&#105;nc&#101;' + '&#64;' + 'cvky' + '&#46;' + '&#111;rg';document.getElementById('cloakf5efdfdbd73cdc453b55677e78766198').innerHTML += ''+addy_textf5efdfdbd73cdc453b55677e78766198+'';
		
DTSTAMP:20260424T172139Z
DTSTART;TZID=America/Kentucky/Louisville:20160315T180000
DTEND;TZID=America/Kentucky/Louisville:20160315T200000
SEQUENCE:0
TRANSP:OPAQUE
END:VEVENT
END:VCALENDAR