BEGIN:VCALENDAR
VERSION:2.0
PRODID:-//jEvents 2.0 for Joomla//EN
CALSCALE:GREGORIAN
METHOD:PUBLISH
BEGIN:VTIMEZONE
TZID:America/Kentucky/Louisville
BEGIN:STANDARD
DTSTART:20151101T010000
RDATE:20160313T030000
TZOFFSETFROM:-0400
TZOFFSETTO:-0500
TZNAME:America/Kentucky/Louisville EST
END:STANDARD
BEGIN:STANDARD
DTSTART:20161106T010000
RDATE:20170312T030000
TZOFFSETFROM:-0400
TZOFFSETTO:-0500
TZNAME:America/Kentucky/Louisville EST
END:STANDARD
BEGIN:STANDARD
DTSTART:20171105T010000
RDATE:20180311T030000
TZOFFSETFROM:-0400
TZOFFSETTO:-0500
TZNAME:America/Kentucky/Louisville EST
END:STANDARD
BEGIN:STANDARD
DTSTART:20181104T010000
RDATE:20190310T030000
TZOFFSETFROM:-0400
TZOFFSETTO:-0500
TZNAME:America/Kentucky/Louisville EST
END:STANDARD
BEGIN:STANDARD
DTSTART:20191103T010000
RDATE:20200308T030000
TZOFFSETFROM:-0400
TZOFFSETTO:-0500
TZNAME:America/Kentucky/Louisville EST
END:STANDARD
BEGIN:STANDARD
DTSTART:20201101T010000
RDATE:20210314T030000
TZOFFSETFROM:-0400
TZOFFSETTO:-0500
TZNAME:America/Kentucky/Louisville EST
END:STANDARD
BEGIN:DAYLIGHT
DTSTART:20151022T130000
RDATE:20151101T010000
TZOFFSETFROM:-0500
TZOFFSETTO:-0400
TZNAME:America/Kentucky/Louisville EDT
END:DAYLIGHT
BEGIN:DAYLIGHT
DTSTART:20160313T030000
RDATE:20161106T010000
TZOFFSETFROM:-0500
TZOFFSETTO:-0400
TZNAME:America/Kentucky/Louisville EDT
END:DAYLIGHT
BEGIN:DAYLIGHT
DTSTART:20170312T030000
RDATE:20171105T010000
TZOFFSETFROM:-0500
TZOFFSETTO:-0400
TZNAME:America/Kentucky/Louisville EDT
END:DAYLIGHT
BEGIN:DAYLIGHT
DTSTART:20180311T030000
RDATE:20181104T010000
TZOFFSETFROM:-0500
TZOFFSETTO:-0400
TZNAME:America/Kentucky/Louisville EDT
END:DAYLIGHT
BEGIN:DAYLIGHT
DTSTART:20190310T030000
RDATE:20191103T010000
TZOFFSETFROM:-0500
TZOFFSETTO:-0400
TZNAME:America/Kentucky/Louisville EDT
END:DAYLIGHT
BEGIN:DAYLIGHT
DTSTART:20200308T030000
RDATE:20201101T010000
TZOFFSETFROM:-0500
TZOFFSETTO:-0400
TZNAME:America/Kentucky/Louisville EDT
END:DAYLIGHT
END:VTIMEZONE
BEGIN:VEVENT
UID:00d90c50e036c74d2efa5eaa3b2cc680
CATEGORIES:Community Event
CREATED:20161005T051733
SUMMARY:Black Saturdays
LOCATION:Wing Station
DESCRIPTION;ENCODING=QUOTED-PRINTABLE:\n\nThis email address is being protected from spambots. You need JavaScrip
 t enabled to view it.
				document.getElementById('cloak075a820e273fef8e501
 a27d99d2727df').innerHTML = '';
				var prefix = 'ma' + 'il' + 'to';
				va
 r path = 'hr' + 'ef' + '=';
				var addy075a820e273fef8e501a27d99d2727df = 
 'tiandra' + '@';
				addy075a820e273fef8e501a27d99d2727df = addy075a820e273
 fef8e501a27d99d2727df + 'trthepr' + '.' + 'com?cc=bradharrison';
				var ad
 dy_text075a820e273fef8e501a27d99d2727df = '';document.getElementById('cloak
 075a820e273fef8e501a27d99d2727df').innerHTML += ''+addy_text075a820e273fef8
 e501a27d99d2727df+'';
		\n
CONTACT:Sanita Woolfolk, This email address is being protected from spambots. You need JavaScript enabled to view it.
				document.getElementById('cloak1461656e2159cd56db9c41f376d2ae22').innerHTML = '';
				var prefix = '&#109;a' + 'i&#108;' + '&#116;o';
				var path = 'hr' + 'ef' + '=';
				var addy1461656e2159cd56db9c41f376d2ae22 = 's&#97;n&#105;t&#97;w&#111;&#111;lf&#111;lk' + '&#64;';
				addy1461656e2159cd56db9c41f376d2ae22 = addy1461656e2159cd56db9c41f376d2ae22 + 'gm&#97;&#105;l' + '&#46;' + 'c&#111;m';
				var addy_text1461656e2159cd56db9c41f376d2ae22 = 's&#97;n&#105;t&#97;w&#111;&#111;lf&#111;lk' + '&#64;' + 'gm&#97;&#105;l' + '&#46;' + 'c&#111;m';document.getElementById('cloak1461656e2159cd56db9c41f376d2ae22').innerHTML += ''+addy_text1461656e2159cd56db9c41f376d2ae22+'';
		
DTSTAMP:20260425T073912Z
DTSTART;TZID=America/Kentucky/Louisville:20161022T130000
DTEND;TZID=America/Kentucky/Louisville:20161022T160000
SEQUENCE:0
TRANSP:OPAQUE
END:VEVENT
END:VCALENDAR