BEGIN:VCALENDAR
VERSION:2.0
PRODID:-//jEvents 2.0 for Joomla//EN
CALSCALE:GREGORIAN
METHOD:PUBLISH
BEGIN:VTIMEZONE
TZID:America/Kentucky/Louisville
BEGIN:STANDARD
DTSTART:20140214T160000
RDATE:20140309T030000
TZOFFSETFROM:-0400
TZOFFSETTO:-0500
TZNAME:America/Kentucky/Louisville EST
END:STANDARD
BEGIN:STANDARD
DTSTART:20141102T010000
RDATE:20150308T030000
TZOFFSETFROM:-0400
TZOFFSETTO:-0500
TZNAME:America/Kentucky/Louisville EST
END:STANDARD
BEGIN:STANDARD
DTSTART:20151101T010000
RDATE:20160313T030000
TZOFFSETFROM:-0400
TZOFFSETTO:-0500
TZNAME:America/Kentucky/Louisville EST
END:STANDARD
BEGIN:STANDARD
DTSTART:20161106T010000
RDATE:20170312T030000
TZOFFSETFROM:-0400
TZOFFSETTO:-0500
TZNAME:America/Kentucky/Louisville EST
END:STANDARD
BEGIN:STANDARD
DTSTART:20171105T010000
RDATE:20180311T030000
TZOFFSETFROM:-0400
TZOFFSETTO:-0500
TZNAME:America/Kentucky/Louisville EST
END:STANDARD
BEGIN:STANDARD
DTSTART:20181104T010000
RDATE:20190310T030000
TZOFFSETFROM:-0400
TZOFFSETTO:-0500
TZNAME:America/Kentucky/Louisville EST
END:STANDARD
BEGIN:STANDARD
DTSTART:20191103T010000
RDATE:20200308T030000
TZOFFSETFROM:-0400
TZOFFSETTO:-0500
TZNAME:America/Kentucky/Louisville EST
END:STANDARD
BEGIN:STANDARD
DTSTART:20201101T010000
RDATE:20210314T030000
TZOFFSETFROM:-0400
TZOFFSETTO:-0500
TZNAME:America/Kentucky/Louisville EST
END:STANDARD
BEGIN:DAYLIGHT
DTSTART:20140309T030000
RDATE:20141102T010000
TZOFFSETFROM:-0500
TZOFFSETTO:-0400
TZNAME:America/Kentucky/Louisville EDT
END:DAYLIGHT
BEGIN:DAYLIGHT
DTSTART:20150308T030000
RDATE:20151101T010000
TZOFFSETFROM:-0500
TZOFFSETTO:-0400
TZNAME:America/Kentucky/Louisville EDT
END:DAYLIGHT
BEGIN:DAYLIGHT
DTSTART:20160313T030000
RDATE:20161106T010000
TZOFFSETFROM:-0500
TZOFFSETTO:-0400
TZNAME:America/Kentucky/Louisville EDT
END:DAYLIGHT
BEGIN:DAYLIGHT
DTSTART:20170312T030000
RDATE:20171105T010000
TZOFFSETFROM:-0500
TZOFFSETTO:-0400
TZNAME:America/Kentucky/Louisville EDT
END:DAYLIGHT
BEGIN:DAYLIGHT
DTSTART:20180311T030000
RDATE:20181104T010000
TZOFFSETFROM:-0500
TZOFFSETTO:-0400
TZNAME:America/Kentucky/Louisville EDT
END:DAYLIGHT
BEGIN:DAYLIGHT
DTSTART:20190310T030000
RDATE:20191103T010000
TZOFFSETFROM:-0500
TZOFFSETTO:-0400
TZNAME:America/Kentucky/Louisville EDT
END:DAYLIGHT
BEGIN:DAYLIGHT
DTSTART:20200308T030000
RDATE:20201101T010000
TZOFFSETFROM:-0500
TZOFFSETTO:-0400
TZNAME:America/Kentucky/Louisville EDT
END:DAYLIGHT
END:VTIMEZONE
BEGIN:VEVENT
UID:d4c93101546f5a92162940a2db0f3f0a
CATEGORIES:Community Event
CREATED:20150205T171624
SUMMARY:University of Louisville/ Yearlings Club Forum Series: Saving Our Youth, Part IV
LOCATION:Yearlings Club - 4309 West Broadway
DESCRIPTION;ENCODING=QUOTED-PRINTABLE:University of Louisville/ Yearlings Club Forum Series: Saving Our Youth, Pa
 rt IV,\nSunday, February 15, 2014, 4:00-6:00 p.m.\nThe Yearlings Club, 4309
  W. Broadway\n\nSaving our Youth, Part IV: Does the Jefferson County Public
  Schools address the needs of urban and African American students? What pla
 ns are in place to close the achievement gap? Has Kentucky's adoption of th
 e Common Core Standards impacted efforts to close the achievement gap? Are 
 alternative schools the answer for urban schools and African American stude
 nts?\n\n\nPANELISTS: Dr. Derrick Brooms, Department of Sociology - Universi
 ty of Louisville,\nDr. Terry Brooks, Executive Director – Kentucky Youth Ad
 vocates, Dr. Dewey Hensley, Chief Academic Officer – Jefferson County Publi
 c Schools, Diane Porter, Vice Chair JCPS Board of Education and District 1 
 Representative, Rev. Jerry Stephenson, Pastor, Midwest Church of Christ, Yo
 uth Panelist.\n\n\nMODERATOR: Dr. Jeronda Majors, Assistant Principal, the 
 Academy @Shawnee High School.\n\n\nThe University of Louisville/Yearlings C
 lub Community Forum Series brings university faculty, community leaders and
  the African American community together to discuss important issues. Curre
 ntly in its twelfth year, this exciting partnership provides a forum to dis
 cuss important community issues.\n\n\nThe Forum Series is free and open to 
 the public. Light refreshments served. For additional information, please c
 ontact: Clest Lanier (502) 852-3042 or This email address is being protecte
 d from spambots. You need JavaScript enabled to view it.
				document.getEl
 ementById('cloak185ce7d1875e1c0cf299b365a8389afa').innerHTML = '';
				var 
 prefix = '&#109;a' + 'i&#108;' + '&#116;o';
				var path = 'hr' + 'ef' + '=
 ';
				var addy185ce7d1875e1c0cf299b365a8389afa = 'cvl&#97;n&#105;01' + '&#
 64;';
				addy185ce7d1875e1c0cf299b365a8389afa = addy185ce7d1875e1c0cf299b3
 65a8389afa + 'l&#111;&#117;&#105;sv&#105;ll&#101;' + '&#46;' + '&#101;d&#11
 7;';
				var addy_text185ce7d1875e1c0cf299b365a8389afa = 'cvl&#97;n&#105;01
 ' + '&#64;' + 'l&#111;&#117;&#105;sv&#105;ll&#101;' + '&#46;' + '&#101;d&#1
 17;';document.getElementById('cloak185ce7d1875e1c0cf299b365a8389afa').inner
 HTML += ''+addy_text185ce7d1875e1c0cf299b365a8389afa+'';
		, or, Marian Vas
 ser, This email address is being protected from spambots. You need JavaScri
 pt enabled to view it.
				document.getElementById('cloak366b37fedb6dd17c7c
 c5079ed918eace').innerHTML = '';
				var prefix = '&#109;a' + 'i&#108;' + '
 &#116;o';
				var path = 'hr' + 'ef' + '=';
				var addy366b37fedb6dd17c7cc
 5079ed918eace = 'mrv&#97;ss01' + '&#64;';
				addy366b37fedb6dd17c7cc5079ed
 918eace = addy366b37fedb6dd17c7cc5079ed918eace + 'l&#111;&#117;&#105;sv&#10
 5;ll&#101;' + '&#46;' + '&#101;d&#117;';
				var addy_text366b37fedb6dd17c7
 cc5079ed918eace = 'mrv&#97;ss01' + '&#64;' + 'l&#111;&#117;&#105;sv&#105;ll
 &#101;' + '&#46;' + '&#101;d&#117;';document.getElementById('cloak366b37fed
 b6dd17c7cc5079ed918eace').innerHTML += ''+addy_text366b37fedb6dd17c7cc5079e
 d918eace+'';
		.\n
CONTACT:Clest Lanier (502) 852-3042 or This email address is being protected from spambots. You need JavaScript enabled to view it.
				document.getElementById('cloakc9c37da3f0bed6255eb963c338d375c5').innerHTML = '';
				var prefix = '&#109;a' + 'i&#108;' + '&#116;o';
				var path = 'hr' + 'ef' + '=';
				var addyc9c37da3f0bed6255eb963c338d375c5 = 'cvl&#97;n&#105;01' + '&#64;';
				addyc9c37da3f0bed6255eb963c338d375c5 = addyc9c37da3f0bed6255eb963c338d375c5 + 'l&#111;&#117;&#105;sv&#105;ll&#101;' + '&#46;' + '&#101;d&#117;';
				var addy_textc9c37da3f0bed6255eb963c338d375c5 = 'cvl&#97;n&#105;01' + '&#64;' + 'l&#111;&#117;&#105;sv&#105;ll&#101;' + '&#46;' + '&#101;d&#117;';document.getElementById('cloakc9c37da3f0bed6255eb963c338d375c5').innerHTML += ''+addy_textc9c37da3f0bed6255eb963c338d375c5+'';
		, or, Marian Vasser, This email address is being protected from spambots. You need JavaScript enabled to view it.
				document.getElementById('cloak63ed9b8db75288c2b653a1c0cef73ee8').innerHTML = '';
				var prefix = '&#109;a' + 'i&#108;' + '&#116;o';
				var path = 'hr' + 'ef' + '=';
				var addy63ed9b8db75288c2b653a1c0cef73ee8 = 'mrv&#97;ss01' + '&#64;';
				addy63ed9b8db75288c2b653a1c0cef73ee8 = addy63ed9b8db75288c2b653a1c0cef73ee8 + 'l&#111;&#117;&#105;sv&#105;ll&#101;' + '&#46;' + '&#101;d&#117;';
				var addy_text63ed9b8db75288c2b653a1c0cef73ee8 = 'mrv&#97;ss01' + '&#64;' + 'l&#111;&#117;&#105;sv&#105;ll&#101;' + '&#46;' + '&#101;d&#117;';document.getElementById('cloak63ed9b8db75288c2b653a1c0cef73ee8').innerHTML += ''+addy_text63ed9b8db75288c2b653a1c0cef73ee8+'';
		
DTSTAMP:20260421T063459Z
DTSTART;TZID=America/Kentucky/Louisville:20150215T160000
DTEND;TZID=America/Kentucky/Louisville:20150215T180000
SEQUENCE:0
TRANSP:OPAQUE
END:VEVENT
END:VCALENDAR