BEGIN:VCALENDAR
VERSION:2.0
PRODID:-//jEvents 2.0 for Joomla//EN
CALSCALE:GREGORIAN
METHOD:PUBLISH
BEGIN:VTIMEZONE
TZID:America/Kentucky/Louisville
BEGIN:STANDARD
DTSTART:20141102T010000
RDATE:20150308T030000
TZOFFSETFROM:-0400
TZOFFSETTO:-0500
TZNAME:America/Kentucky/Louisville EST
END:STANDARD
BEGIN:STANDARD
DTSTART:20151101T010000
RDATE:20160313T030000
TZOFFSETFROM:-0400
TZOFFSETTO:-0500
TZNAME:America/Kentucky/Louisville EST
END:STANDARD
BEGIN:STANDARD
DTSTART:20161106T010000
RDATE:20170312T030000
TZOFFSETFROM:-0400
TZOFFSETTO:-0500
TZNAME:America/Kentucky/Louisville EST
END:STANDARD
BEGIN:STANDARD
DTSTART:20171105T010000
RDATE:20180311T030000
TZOFFSETFROM:-0400
TZOFFSETTO:-0500
TZNAME:America/Kentucky/Louisville EST
END:STANDARD
BEGIN:STANDARD
DTSTART:20181104T010000
RDATE:20190310T030000
TZOFFSETFROM:-0400
TZOFFSETTO:-0500
TZNAME:America/Kentucky/Louisville EST
END:STANDARD
BEGIN:STANDARD
DTSTART:20191103T010000
RDATE:20200308T030000
TZOFFSETFROM:-0400
TZOFFSETTO:-0500
TZNAME:America/Kentucky/Louisville EST
END:STANDARD
BEGIN:STANDARD
DTSTART:20201101T010000
RDATE:20210314T030000
TZOFFSETFROM:-0400
TZOFFSETTO:-0500
TZNAME:America/Kentucky/Louisville EST
END:STANDARD
BEGIN:DAYLIGHT
DTSTART:20140327T100000
RDATE:20141102T010000
TZOFFSETFROM:-0500
TZOFFSETTO:-0400
TZNAME:America/Kentucky/Louisville EDT
END:DAYLIGHT
BEGIN:DAYLIGHT
DTSTART:20150308T030000
RDATE:20151101T010000
TZOFFSETFROM:-0500
TZOFFSETTO:-0400
TZNAME:America/Kentucky/Louisville EDT
END:DAYLIGHT
BEGIN:DAYLIGHT
DTSTART:20160313T030000
RDATE:20161106T010000
TZOFFSETFROM:-0500
TZOFFSETTO:-0400
TZNAME:America/Kentucky/Louisville EDT
END:DAYLIGHT
BEGIN:DAYLIGHT
DTSTART:20170312T030000
RDATE:20171105T010000
TZOFFSETFROM:-0500
TZOFFSETTO:-0400
TZNAME:America/Kentucky/Louisville EDT
END:DAYLIGHT
BEGIN:DAYLIGHT
DTSTART:20180311T030000
RDATE:20181104T010000
TZOFFSETFROM:-0500
TZOFFSETTO:-0400
TZNAME:America/Kentucky/Louisville EDT
END:DAYLIGHT
BEGIN:DAYLIGHT
DTSTART:20190310T030000
RDATE:20191103T010000
TZOFFSETFROM:-0500
TZOFFSETTO:-0400
TZNAME:America/Kentucky/Louisville EDT
END:DAYLIGHT
BEGIN:DAYLIGHT
DTSTART:20200308T030000
RDATE:20201101T010000
TZOFFSETFROM:-0500
TZOFFSETTO:-0400
TZNAME:America/Kentucky/Louisville EDT
END:DAYLIGHT
END:VTIMEZONE
BEGIN:VEVENT
UID:bbb9026c8bffb0fcac11cfc033088882
CATEGORIES:Community Event
CREATED:20150220T110414
SUMMARY:Love Louisville Trees Program
DESCRIPTION;ENCODING=QUOTED-PRINTABLE:\n\nPlanting trees can help to reduce energy bills by 30% , increase the va
 lue of your property by 10%, improve storm water absorption, beautify neigh
 borhoods, and purify air.\nThis spring, Louisville Grows is offering reside
 nts of the Shawnee Neighborhood 165 FREE TREES through the Love Louisville 
 Trees Program.\n\n\nIn order to receive a tree you are encouraged to attend
  the planting day event March 28th from 10 am—2 pm and help to plant your t
 ree and 1-2 others and care for the tree for the first 3 years after planti
 ng. If you are physically unable to plant a tree, you can volunteer at the 
 registration table or assist in other ways.\n\n\nWe are primarily intereste
 d in planting trees in front yards and in publicly owned easements or right
  of ways, but will consider planting trees on larger properties or backyard
 s.\nIf you would like a free canopy tree for your front yard or easement, c
 all 502-681-5106 or email This email address is being protected from spambo
 ts. You need JavaScript enabled to view it.
				document.getElementById('cl
 oak24c3ff8de82a8267a710c0587604fb34').innerHTML = '';
				var prefix = '&#1
 09;a' + 'i&#108;' + '&#116;o';
				var path = 'hr' + 'ef' + '=';
				var ad
 dy24c3ff8de82a8267a710c0587604fb34 = '&#105;nf&#111;' + '&#64;';
				addy24
 c3ff8de82a8267a710c0587604fb34 = addy24c3ff8de82a8267a710c0587604fb34 + 'l&
 #111;&#117;&#105;sv&#105;ll&#101;gr&#111;ws' + '&#46;' + '&#111;rg';
				va
 r addy_text24c3ff8de82a8267a710c0587604fb34 = '&#105;nf&#111;' + '&#64;' + 
 'l&#111;&#117;&#105;sv&#105;ll&#101;gr&#111;ws' + '&#46;' + '&#111;rg';docu
 ment.getElementById('cloak24c3ff8de82a8267a710c0587604fb34').innerHTML += '
 '+addy_text24c3ff8de82a8267a710c0587604fb34+'';
		\n
CONTACT:call 502-681-5106 or email This email address is being protected from spambots. You need JavaScript enabled to view it.
				document.getElementById('cloak81fb1b0115f254f9332d9e9341bfa69e').innerHTML = '';
				var prefix = '&#109;a' + 'i&#108;' + '&#116;o';
				var path = 'hr' + 'ef' + '=';
				var addy81fb1b0115f254f9332d9e9341bfa69e = '&#105;nf&#111;' + '&#64;';
				addy81fb1b0115f254f9332d9e9341bfa69e = addy81fb1b0115f254f9332d9e9341bfa69e + 'l&#111;&#117;&#105;sv&#105;ll&#101;gr&#111;ws' + '&#46;' + '&#111;rg';
				var addy_text81fb1b0115f254f9332d9e9341bfa69e = '&#105;nf&#111;' + '&#64;' + 'l&#111;&#117;&#105;sv&#105;ll&#101;gr&#111;ws' + '&#46;' + '&#111;rg';document.getElementById('cloak81fb1b0115f254f9332d9e9341bfa69e').innerHTML += ''+addy_text81fb1b0115f254f9332d9e9341bfa69e+'';
		
DTSTAMP:20260423T102514Z
DTSTART;TZID=America/Kentucky/Louisville:20150328T100000
DTEND;TZID=America/Kentucky/Louisville:20150328T140000
SEQUENCE:0
TRANSP:OPAQUE
END:VEVENT
END:VCALENDAR