BEGIN:VCALENDAR
VERSION:2.0
PRODID:-//jEvents 2.0 for Joomla//EN
CALSCALE:GREGORIAN
METHOD:PUBLISH
BEGIN:VTIMEZONE
TZID:America/Kentucky/Louisville
BEGIN:STANDARD
DTSTART:20140119T170000
RDATE:20140309T030000
TZOFFSETFROM:-0400
TZOFFSETTO:-0500
TZNAME:America/Kentucky/Louisville EST
END:STANDARD
BEGIN:STANDARD
DTSTART:20141102T010000
RDATE:20150308T030000
TZOFFSETFROM:-0400
TZOFFSETTO:-0500
TZNAME:America/Kentucky/Louisville EST
END:STANDARD
BEGIN:STANDARD
DTSTART:20151101T010000
RDATE:20160313T030000
TZOFFSETFROM:-0400
TZOFFSETTO:-0500
TZNAME:America/Kentucky/Louisville EST
END:STANDARD
BEGIN:STANDARD
DTSTART:20161106T010000
RDATE:20170312T030000
TZOFFSETFROM:-0400
TZOFFSETTO:-0500
TZNAME:America/Kentucky/Louisville EST
END:STANDARD
BEGIN:STANDARD
DTSTART:20171105T010000
RDATE:20180311T030000
TZOFFSETFROM:-0400
TZOFFSETTO:-0500
TZNAME:America/Kentucky/Louisville EST
END:STANDARD
BEGIN:STANDARD
DTSTART:20181104T010000
RDATE:20190310T030000
TZOFFSETFROM:-0400
TZOFFSETTO:-0500
TZNAME:America/Kentucky/Louisville EST
END:STANDARD
BEGIN:STANDARD
DTSTART:20191103T010000
RDATE:20200308T030000
TZOFFSETFROM:-0400
TZOFFSETTO:-0500
TZNAME:America/Kentucky/Louisville EST
END:STANDARD
BEGIN:STANDARD
DTSTART:20201101T010000
RDATE:20210314T030000
TZOFFSETFROM:-0400
TZOFFSETTO:-0500
TZNAME:America/Kentucky/Louisville EST
END:STANDARD
BEGIN:DAYLIGHT
DTSTART:20140309T030000
RDATE:20141102T010000
TZOFFSETFROM:-0500
TZOFFSETTO:-0400
TZNAME:America/Kentucky/Louisville EDT
END:DAYLIGHT
BEGIN:DAYLIGHT
DTSTART:20150308T030000
RDATE:20151101T010000
TZOFFSETFROM:-0500
TZOFFSETTO:-0400
TZNAME:America/Kentucky/Louisville EDT
END:DAYLIGHT
BEGIN:DAYLIGHT
DTSTART:20160313T030000
RDATE:20161106T010000
TZOFFSETFROM:-0500
TZOFFSETTO:-0400
TZNAME:America/Kentucky/Louisville EDT
END:DAYLIGHT
BEGIN:DAYLIGHT
DTSTART:20170312T030000
RDATE:20171105T010000
TZOFFSETFROM:-0500
TZOFFSETTO:-0400
TZNAME:America/Kentucky/Louisville EDT
END:DAYLIGHT
BEGIN:DAYLIGHT
DTSTART:20180311T030000
RDATE:20181104T010000
TZOFFSETFROM:-0500
TZOFFSETTO:-0400
TZNAME:America/Kentucky/Louisville EDT
END:DAYLIGHT
BEGIN:DAYLIGHT
DTSTART:20190310T030000
RDATE:20191103T010000
TZOFFSETFROM:-0500
TZOFFSETTO:-0400
TZNAME:America/Kentucky/Louisville EDT
END:DAYLIGHT
BEGIN:DAYLIGHT
DTSTART:20200308T030000
RDATE:20201101T010000
TZOFFSETFROM:-0500
TZOFFSETTO:-0400
TZNAME:America/Kentucky/Louisville EDT
END:DAYLIGHT
END:VTIMEZONE
BEGIN:VEVENT
UID:1e6sgf8dl39mhpr29h142rulvs@google.com
CATEGORIES:Ongoing Community/Organizational Programming
CREATED:20150717T021821
SUMMARY:West African Drum Class
LOCATION:Sound Community, 1228 E. Breckenridge St., Louisville, KY 40204 
DESCRIPTION;ENCODING=QUOTED-PRINTABLE:West African drum class with Hamidou Koivogui, veteran of the national danc
 e companies of Guinea, and experienced teacher in the U.S. First class free
 . For more information contact Gregory Acker: This email address is being p
 rotected from spambots. You need JavaScript enabled to view it.
				documen
 t.getElementById('cloak39219848470fa390a0711685825ab30b').innerHTML = '';
	
 			var prefix = '&#109;a' + 'i&#108;' + '&#116;o';
				var path = 'hr' + 'e
 f' + '=';
				var addy39219848470fa390a0711685825ab30b = 'GAck&#101;r' + '&
 #64;';
				addy39219848470fa390a0711685825ab30b = addy39219848470fa390a0711
 685825ab30b + '&#97;&#111;l' + '&#46;' + 'c&#111;m';
				var addy_text39219
 848470fa390a0711685825ab30b = 'GAck&#101;r' + '&#64;' + '&#97;&#111;l' + '&
 #46;' + 'c&#111;m';document.getElementById('cloak39219848470fa390a071168582
 5ab30b').innerHTML += ''+addy_text39219848470fa390a0711685825ab30b+'';
		 o
 r Liz Virgo: This email address is being protected from spambots. You need 
 JavaScript enabled to view it.
				document.getElementById('cloak586704463a
 7801eee85154be77f50374').innerHTML = '';
				var prefix = '&#109;a' + 'i&#1
 08;' + '&#116;o';
				var path = 'hr' + 'ef' + '=';
				var addy586704463a7
 801eee85154be77f50374 = '&#101;lv&#105;rg01' + '&#64;';
				addy586704463a7
 801eee85154be77f50374 = addy586704463a7801eee85154be77f50374 + 'c&#97;rdm&#
 97;&#105;l' + '&#46;' + 'l&#111;&#117;&#105;sv&#105;ll&#101;' + '&#46;' + '
 &#101;d&#117;';
				var addy_text586704463a7801eee85154be77f50374 = '&#101;
 lv&#105;rg01' + '&#64;' + 'c&#97;rdm&#97;&#105;l' + '&#46;' + 'l&#111;&#117
 ;&#105;sv&#105;ll&#101;' + '&#46;' + '&#101;d&#117;';document.getElementByI
 d('cloak586704463a7801eee85154be77f50374').innerHTML += ''+addy_text5867044
 63a7801eee85154be77f50374+'';
		. 
DTSTAMP:20260419T161338Z
DTSTART;TZID=America/Kentucky/Louisville:20150120T170000
DTEND;TZID=America/Kentucky/Louisville:20150120T180000
SEQUENCE:0
TRANSP:OPAQUE
END:VEVENT
END:VCALENDAR