BEGIN:VCALENDAR
VERSION:2.0
PRODID:-//jEvents 2.0 for Joomla//EN
CALSCALE:GREGORIAN
METHOD:PUBLISH
BEGIN:VTIMEZONE
TZID:America/Kentucky/Louisville
BEGIN:STANDARD
DTSTART:20140221T133000
RDATE:20140309T030000
TZOFFSETFROM:-0400
TZOFFSETTO:-0500
TZNAME:America/Kentucky/Louisville EST
END:STANDARD
BEGIN:STANDARD
DTSTART:20141102T010000
RDATE:20150308T030000
TZOFFSETFROM:-0400
TZOFFSETTO:-0500
TZNAME:America/Kentucky/Louisville EST
END:STANDARD
BEGIN:STANDARD
DTSTART:20151101T010000
RDATE:20160313T030000
TZOFFSETFROM:-0400
TZOFFSETTO:-0500
TZNAME:America/Kentucky/Louisville EST
END:STANDARD
BEGIN:STANDARD
DTSTART:20161106T010000
RDATE:20170312T030000
TZOFFSETFROM:-0400
TZOFFSETTO:-0500
TZNAME:America/Kentucky/Louisville EST
END:STANDARD
BEGIN:STANDARD
DTSTART:20171105T010000
RDATE:20180311T030000
TZOFFSETFROM:-0400
TZOFFSETTO:-0500
TZNAME:America/Kentucky/Louisville EST
END:STANDARD
BEGIN:STANDARD
DTSTART:20181104T010000
RDATE:20190310T030000
TZOFFSETFROM:-0400
TZOFFSETTO:-0500
TZNAME:America/Kentucky/Louisville EST
END:STANDARD
BEGIN:STANDARD
DTSTART:20191103T010000
RDATE:20200308T030000
TZOFFSETFROM:-0400
TZOFFSETTO:-0500
TZNAME:America/Kentucky/Louisville EST
END:STANDARD
BEGIN:STANDARD
DTSTART:20201101T010000
RDATE:20210314T030000
TZOFFSETFROM:-0400
TZOFFSETTO:-0500
TZNAME:America/Kentucky/Louisville EST
END:STANDARD
BEGIN:DAYLIGHT
DTSTART:20140309T030000
RDATE:20141102T010000
TZOFFSETFROM:-0500
TZOFFSETTO:-0400
TZNAME:America/Kentucky/Louisville EDT
END:DAYLIGHT
BEGIN:DAYLIGHT
DTSTART:20150308T030000
RDATE:20151101T010000
TZOFFSETFROM:-0500
TZOFFSETTO:-0400
TZNAME:America/Kentucky/Louisville EDT
END:DAYLIGHT
BEGIN:DAYLIGHT
DTSTART:20160313T030000
RDATE:20161106T010000
TZOFFSETFROM:-0500
TZOFFSETTO:-0400
TZNAME:America/Kentucky/Louisville EDT
END:DAYLIGHT
BEGIN:DAYLIGHT
DTSTART:20170312T030000
RDATE:20171105T010000
TZOFFSETFROM:-0500
TZOFFSETTO:-0400
TZNAME:America/Kentucky/Louisville EDT
END:DAYLIGHT
BEGIN:DAYLIGHT
DTSTART:20180311T030000
RDATE:20181104T010000
TZOFFSETFROM:-0500
TZOFFSETTO:-0400
TZNAME:America/Kentucky/Louisville EDT
END:DAYLIGHT
BEGIN:DAYLIGHT
DTSTART:20190310T030000
RDATE:20191103T010000
TZOFFSETFROM:-0500
TZOFFSETTO:-0400
TZNAME:America/Kentucky/Louisville EDT
END:DAYLIGHT
BEGIN:DAYLIGHT
DTSTART:20200308T030000
RDATE:20201101T010000
TZOFFSETFROM:-0500
TZOFFSETTO:-0400
TZNAME:America/Kentucky/Louisville EDT
END:DAYLIGHT
END:VTIMEZONE
BEGIN:VEVENT
UID:nihs6cthh0t70eia8fca84l9ls@google.com
CATEGORIES:Ongoing Community/Organizational Programming
CREATED:20150717T021821
SUMMARY:PeaceCasters
LOCATION:318 W Kentucky St, Louisville, KY 40203, USA
DESCRIPTION;ENCODING=QUOTED-PRINTABLE:PeaceCasters is a multicultural leadership group of youth, ages 12 - 16 who
  use their skills in peacemaking, communication and teamwork to develop sho
 rt form videos that reflect Peace Education's teachings and values around c
 onflict resolution, respect for diversity and prejudice reduction.\n \nThe 
 PeaceCasters mission is:\nEmpowering youth to explore messages of peace and
  cooperation through digital media.  Core to our program is equipping young
  people to appreciate and explore peace and diversity in their own communit
 ies and to create related videos in their own unique voices. \n\nNew member
 s of the PeaceCasters often enter the program through participation in a su
 mmer or winter camp program.\nIf you, or a youth (ages 12 - 16) you know, a
 re interested in joining the PeaceCasters please contact us by email\nThis 
 email address is being protected from spambots. You need JavaScript enabled
  to view it.
				document.getElementById('cloake9c9b930d92e967d961462bc433f
 037b').innerHTML = '';
				var prefix = '&#109;a' + 'i&#108;' + '&#116;o';

 				var path = 'hr' + 'ef' + '=';
				var addye9c9b930d92e967d961462bc433f0
 37b = 'j&#97;n&#101;n&#101;' + '&#64;';
				addye9c9b930d92e967d961462bc433
 f037b = addye9c9b930d92e967d961462bc433f037b + 'p&#101;&#97;c&#101;&#101;d&
 #117;c&#97;t&#105;&#111;npr&#111;gr&#97;m' + '&#46;' + '&#111;rg';
				var 
 addy_texte9c9b930d92e967d961462bc433f037b = 'j&#97;n&#101;n&#101;' + '&#64;
 ' + 'p&#101;&#97;c&#101;&#101;d&#117;c&#97;t&#105;&#111;npr&#111;gr&#97;m' 
 + '&#46;' + '&#111;rg';document.getElementById('cloake9c9b930d92e967d961462
 bc433f037b').innerHTML += ''+addy_texte9c9b930d92e967d961462bc433f037b+'';

 		  or  This email address is being protected from spambots. You need JavaS
 cript enabled to view it.
				document.getElementById('cloakb91aa198f075a05
 95573bcc631c50189').innerHTML = '';
				var prefix = '&#109;a' + 'i&#108;' 
 + '&#116;o';
				var path = 'hr' + 'ef' + '=';
				var addyb91aa198f075a059
 5573bcc631c50189 = 'm&#97;rk' + '&#64;';
				addyb91aa198f075a0595573bcc631
 c50189 = addyb91aa198f075a0595573bcc631c50189 + 'p&#101;&#97;c&#101;&#101;d
 &#117;c&#97;t&#105;&#111;npr&#111;gr&#97;m' + '&#46;' + '&#111;rg';
				var
  addy_textb91aa198f075a0595573bcc631c50189 = 'm&#97;rk' + '&#64;' + 'p&#101
 ;&#97;c&#101;&#101;d&#117;c&#97;t&#105;&#111;npr&#111;gr&#97;m' + '&#46;' +
  '&#111;rg';document.getElementById('cloakb91aa198f075a0595573bcc631c50189'
 ).innerHTML += ''+addy_textb91aa198f075a0595573bcc631c50189+'';
		\nor phon
 e 502-589-6583. http://peaceeducationprogram.org/PeaceCasters.php\n\nhttp:/
 /peaceeducationprogram.org/PeaceCasters-Meeting-Schedule.php
DTSTAMP:20260419T123422Z
DTSTART;TZID=America/Kentucky/Louisville:20150222T133000
DTEND;TZID=America/Kentucky/Louisville:20150222T163000
SEQUENCE:0
TRANSP:OPAQUE
END:VEVENT
END:VCALENDAR